BEGIN:VCALENDAR
VERSION:2.0
PRODID:-//ChamberMaster//Event Calendar 2.0//EN
METHOD:PUBLISH
X-PUBLISHED-TTL:P3D
REFRESH-INTERVAL:P3D
CALSCALE:GREGORIAN
BEGIN:VEVENT
DTSTART:20220824T230000Z
DTEND:20220825T000000Z
X-MICROSOFT-CDO-ALLDAYEVENT:FALSE
SUMMARY:2022 Summer Concert Series: "The Commandant's Own" U.S. Marine Drum & Bugle Corps
DESCRIPTION:"The Commandant's Own" The United States Marine Drum & Bugle Corps performs martial and popular music for hundreds of thousands of spectators each year. Comprised of over 85 Marine musicians\, dressed in ceremonial red and white uniforms\, it is known world-wide as a premier musical marching unit. The unit travels the world along with the United States Marine Corps Silent Drill Platoon and the Official Color Guard of the Marine Corps as the United States Marine Corps Battle Color Detachment. *Please note that the Silent Drill Platoon will not be performing at this event.* The free Summer Concerts are held outdoors on the National Museum of the Marine Corps' entry plaza\, weather permitting. Guests are encouraged to bring lawn chairs or picnic blankets. Please enjoy our extended hours before the concert begins. The Museum and Store will be open until 7PM. Tun Tavern will be open until 6PM. Snacks and beverages available for purchase on our parade deck until 6:45PM.
X-ALT-DESC;FMTTYPE=text/html:&quot\;The Commandant&#39\;s Own&quot\; The United States Marine Drum &amp\; Bugle Corps performs martial and popular music for hundreds of thousands of spectators each year. Comprised of over 85 Marine musicians\, dressed in ceremonial red and white uniforms\, it is known world-wide as a premier musical marching unit. The unit travels the world along with the United States Marine Corps Silent Drill Platoon and the Official Color Guard of the Marine Corps as the United States Marine Corps Battle Color Detachment. *Please note that the Silent Drill Platoon will not be performing at this event.* The free Summer Concerts are held outdoors on the National Museum of the Marine Corps&#39\; entry plaza\, weather permitting. Guests are encouraged to bring lawn chairs or picnic blankets. Please enjoy our extended hours before the concert begins. The Museum and Store will be open until 7PM. Tun Tavern will be open until 6PM. Snacks and beverages available for purchase on our parade deck until 6:45PM.
LOCATION:National Museum of the Marine Corps 1775 Semper Fidelis Way Triangle\, VA 22172
UID:e.492.13086
SEQUENCE:3
DTSTAMP:20260422T225755Z
URL:https://members.fredericksburgchamber.org/events/details/2022-summer-concert-series-the-commandant-s-own-u-s-marine-drum-bugle-corps-13086
END:VEVENT

END:VCALENDAR
