BEGIN:VCALENDAR
VERSION:2.0
PRODID:-//ChamberMaster//Event Calendar 2.0//EN
METHOD:PUBLISH
X-PUBLISHED-TTL:P3D
REFRESH-INTERVAL:P3D
CALSCALE:GREGORIAN
BEGIN:VEVENT
DTSTART:20220818T230000Z
DTEND:20220819T003000Z
X-MICROSOFT-CDO-ALLDAYEVENT:FALSE
SUMMARY:2022 Summer Concert Series: U.S. Navy Concert Band
DESCRIPTION:The United States Navy Concert Band\, the premier wind ensemble of the U.S. Navy\, presents a wide array of marches\, patriotic selections\, orchestral transcriptions and modern wind ensemble repertoire. As the original ensemble of the Navy Band\, the Concert Band has been performing public concerts and participating in high-profile events for more than 95 years. The free Summer Concerts are held outdoors on the National Museum of the Marine Corps' entry plaza\, weather permitting. Guests are encouraged to bring lawn chairs or picnic blankets.
X-ALT-DESC;FMTTYPE=text/html:The United States Navy Concert Band\, the premier wind ensemble of the U.S. Navy\, presents a wide array of marches\, patriotic selections\, orchestral transcriptions and modern wind ensemble repertoire. As the original ensemble of the Navy Band\, the Concert Band has been performing public concerts and participating in high-profile events for more than 95 years. The free Summer Concerts are held outdoors on the National Museum of the Marine Corps&#39\; entry plaza\, weather permitting. Guests are encouraged to bring lawn chairs or picnic blankets.
LOCATION:National Museum of the Marine Corps 18900 Jefferson Davis Highway Triangle\, VA 22172
UID:e.492.12649
SEQUENCE:3
DTSTAMP:20260422T230139Z
URL:https://members.fredericksburgchamber.org/events/details/2022-summer-concert-series-u-s-navy-concert-band-12649
END:VEVENT

END:VCALENDAR
