BEGIN:VCALENDAR
VERSION:2.0
PRODID:-//ChamberMaster//Event Calendar 2.0//EN
METHOD:PUBLISH
X-PUBLISHED-TTL:P3D
REFRESH-INTERVAL:P3D
CALSCALE:GREGORIAN
BEGIN:VEVENT
DTSTART:19800101T050000Z
DTEND:19800101T050000Z
X-MICROSOFT-CDO-ALLDAYEVENT:FALSE
SUMMARY:Board Room Rental
DESCRIPTION:
X-ALT-DESC;FMTTYPE=text/html:
LOCATION:
UID:e.492.306
SEQUENCE:3
DTSTAMP:20260425T235840Z
URL:https://members.fredericksburgchamber.org/events/details/268BBE84-1C8A-48AD-ACB5-25EE6B1CCFFA-306
END:VEVENT

END:VCALENDAR
