BEGIN:VCALENDAR
VERSION:2.0
PRODID:-//ChamberMaster//Event Calendar 2.0//EN
METHOD:PUBLISH
X-PUBLISHED-TTL:P3D
REFRESH-INTERVAL:P3D
CALSCALE:GREGORIAN
BEGIN:VEVENT
DTSTART:20221103T120000Z
DTEND:20221103T203000Z
X-MICROSOFT-CDO-ALLDAYEVENT:FALSE
SUMMARY:28th Annual Women’s Leadership Colloquium at UMW
DESCRIPTION:Fran Hauser is the keynote speaker and will be discussing "Real Talk\, Real Issues\, Real Solutions." The daylong event also includes a variety of enriching seminars.Fran Hauser is an author\, keynote speaker and startup investor at the intersection of women's empowerment\, career fulfillment\, and collective wellbeing. Networking is the best thing you can do for your own professional development! Share\, learn and grow from other professionals in the Stafford area. All are welcome.
X-ALT-DESC;FMTTYPE=text/html:Fran Hauser is the keynote speaker and will be discussing &ldquo\;Real Talk\, Real Issues\, Real Solutions.&rdquo\; The daylong event also includes a variety of enriching seminars.Fran Hauser is an author\, keynote speaker and startup investor at the intersection of women&rsquo\;s empowerment\, career fulfillment\, and collective wellbeing. Networking is the best thing you can do for your own professional development! Share\, learn and grow from other professionals in the Stafford area. All are welcome.
LOCATION:The University of Mary Washington Stafford Campus 125 University Blvd\, Fredericksburg\, Virginia 22406
UID:e.492.13087
SEQUENCE:3
DTSTAMP:20260422T164237Z
URL:https://members.fredericksburgchamber.org/events/details/28th-annual-women-s-leadership-colloquium-at-umw-13087
END:VEVENT

END:VCALENDAR
