BEGIN:VCALENDAR
VERSION:2.0
PRODID:-//ChamberMaster//Event Calendar 2.0//EN
METHOD:PUBLISH
X-PUBLISHED-TTL:P3D
REFRESH-INTERVAL:P3D
CALSCALE:GREGORIAN
BEGIN:VEVENT
DTSTART:20231102T120000Z
DTEND:20231102T200000Z
X-MICROSOFT-CDO-ALLDAYEVENT:FALSE
SUMMARY:29th Annual Women's Leadership Colloquium @ UMW
DESCRIPTION:The Annual Women's Leadership Colloquium @ UMW brings together professional women from all walks of life to learn and grow together. This day-long event will center on the theme of happiness and resilience. Michelle Gielan\, Founder of the Institute for Applied Positive Research\, will be the keynote speaker for the this event!
X-ALT-DESC;FMTTYPE=text/html:The Annual Women&rsquo\;s Leadership Colloquium @ UMW brings together professional women from all walks of life to learn and grow together. This day-long event will center on the theme of happiness and resilience. Michelle Gielan\, Founder of the Institute for Applied Positive Research\, will be the keynote speaker for the this event!
LOCATION:University of Mary Washington - Stafford Campus
UID:e.492.13726
SEQUENCE:3
DTSTAMP:20260421T220649Z
URL:https://members.fredericksburgchamber.org/events/details/29th-annual-women-s-leadership-colloquium-umw-13726
END:VEVENT

END:VCALENDAR
