BEGIN:VCALENDAR
VERSION:2.0
PRODID:-//ChamberMaster//Event Calendar 2.0//EN
METHOD:PUBLISH
X-PUBLISHED-TTL:P3D
REFRESH-INTERVAL:P3D
CALSCALE:GREGORIAN
BEGIN:VEVENT
DTSTART:20250920T130000Z
DTEND:20250920T170000Z
X-MICROSOFT-CDO-ALLDAYEVENT:FALSE
SUMMARY:2nd Annual SCPS Student Market
DESCRIPTION:Massaponax High School FBLA (MHS FBLA) is happy to announce its 2nd annual Student Market! The event will be held inside the commons of MHS on Saturday\, September 20th\, 2025 from 9:00a - 1:00p. This market is for students ages 5-18 years old to sell their artwork\, original apparel\, and homemade items. Space is limited\, applications are required and will be selected by the advisors for MHS FBLA to prevent any student bias. Spaces will be given on a first-come\, first-serve basis after approval of application and payment is made. Vendors must provide their own table and chairs\, access to electricity is not guaranteed. Our goal is to have the greatest variety of items made by students showcased and available for the community to purchase. Priority will be given to Spotsylvania County Public Schools students should spaces become limited\, but this the event is open to student vendors that are a part of the local homeschool community\, as well as\, neighboring school districts.
X-ALT-DESC;FMTTYPE=text/html:Massaponax High School FBLA (MHS FBLA) is happy to announce its 2nd annual Student Market! The event will be held inside the commons of MHS on Saturday\, September 20th\, 2025 from 9:00a - 1:00p. This market is for students ages 5-18 years old to sell their artwork\, original apparel\, and homemade items. Space is limited\, applications are required and will be selected by the advisors for MHS FBLA to prevent any student bias. Spaces will be given on a first-come\, first-serve basis after approval of application and payment is made. Vendors must provide their own table and chairs\, access to electricity is not guaranteed. Our goal is to have the greatest variety of items made by students showcased and available for the community to purchase. Priority will be given to Spotsylvania County Public Schools students should spaces become limited\, but this the event is open to student vendors that are a part of the local homeschool community\, as well as\, neighboring school districts.
LOCATION:Massaponax High School 8201 Patriot Highway Fredericksburg\, VA 22407
UID:e.492.14937
SEQUENCE:3
DTSTAMP:20260421T211216Z
URL:https://members.fredericksburgchamber.org/events/details/2nd-annual-scps-student-market-14937
END:VEVENT

END:VCALENDAR
