BEGIN:VCALENDAR
VERSION:2.0
PRODID:-//ChamberMaster//Event Calendar 2.0//EN
METHOD:PUBLISH
X-PUBLISHED-TTL:P3D
REFRESH-INTERVAL:P3D
CALSCALE:GREGORIAN
BEGIN:VEVENT
DTSTART:20230428T223000Z
DTEND:20230429T033000Z
X-MICROSOFT-CDO-ALLDAYEVENT:FALSE
SUMMARY:32nd Annual Awards and Gala\, Kings and Queens of Business
DESCRIPTION:Join us for the Chamber's largest signature event\, The 32nd Annual Awards Gala\, " The Kings and Queens of Business". Held on Friday\, April 28th at the Fredericksburg Expo and Conference Center. \n\n\n\nEach year we gather to celebrate the successes of the business community. The centerpiece of the festivities is the presentation of the Business of the Year Awards\, the Entrepreneur of the Year Award and the Prince B. Woodard Leadership Award. With over 400 Chamber members present\, this is the event of the year you do not want to miss!\n\n\n\nCheck out our newsletter for the award nomination link!
X-ALT-DESC;FMTTYPE=text/html:<h2 style="text-align: center\;"><span style="font-size:14px\;">Join us for the Chamber&#39\;s largest signature event\, The 32nd&nbsp\;Annual Awards Gala\,&nbsp\;&quot\; The Kings and Queens of Business&quot\;. Held on Friday\, April 28th at the Fredericksburg Expo and Conference Center.&nbsp\;<br />\n<br />\nEach year we gather&nbsp\;to celebrate the successes&nbsp\;of the business community. The centerpiece of the festivities is the presentation of the Business of the Year Awards\, the Entrepreneur of the Year Award and the Prince B. Woodard Leadership Award. With over 400 Chamber members present\, this is the event of&nbsp\;the year you do not want to miss!<br />\n<br />\nCheck out our newsletter for the award nomination link!&nbsp\;</span><br />\n&nbsp\;</h2>\n\n<p style="text-align: center\;"><br />\n<span style="font-size:28px\;">&nbsp\; &nbsp\;</span></p>\n
LOCATION:Fredericksburg Expo & Conference Center 2371 Carl D Silver Parkway Fredericksburg\, VA 22401
UID:e.492.13194
SEQUENCE:3
DTSTAMP:20260422T085350Z
URL:https://members.fredericksburgchamber.org/events/details/32nd-annual-awards-and-gala-kings-and-queens-of-business-13194
END:VEVENT

END:VCALENDAR
