BEGIN:VCALENDAR
VERSION:2.0
PRODID:-//ChamberMaster//Event Calendar 2.0//EN
METHOD:PUBLISH
X-PUBLISHED-TTL:P3D
REFRESH-INTERVAL:P3D
CALSCALE:GREGORIAN
BEGIN:VEVENT
DTSTART:20240412T223000Z
DTEND:20240413T033000Z
X-MICROSOFT-CDO-ALLDAYEVENT:FALSE
SUMMARY:33rd Annual Awards and Gala\, A Night at the Monte Carlo
DESCRIPTION:Join us for the Chamber's largest signature event\, The 33rd Annual Awards Gala\, " A Night at Monte Carlo". Held on Friday\, April 12th at the Fredericksburg Convention Center. \n\n\n\nEach year we gather to celebrate the successes of the business community. The centerpiece of the festivities is the presentation of the Business of the Year Awards\, the Entrepreneur of the Year Award and the Prince B. Woodard Leadership Award. With over 400 Chamber members present\, this is the event of the year you do not want to miss!\n\n\n\nCheck out our newsletter for the award nomination link!
X-ALT-DESC;FMTTYPE=text/html:<h2 style="text-align: center\;"><span style="font-size: 14px\;">Join us for the Chamber&#39\;s largest signature event\, The 33rd&nbsp\;Annual Awards Gala\,&nbsp\;&quot\; A Night at Monte Carlo&quot\;. Held on Friday\, April 12th&nbsp\;at the Fredericksburg Convention&nbsp\;Center.&nbsp\;<br />\n<br />\nEach year we gather&nbsp\;to celebrate the successes&nbsp\;of the business community. The centerpiece of the festivities is the presentation of the Business of the Year Awards\, the Entrepreneur of the Year Award and the Prince B. Woodard Leadership Award. With over 400 Chamber members present\, this is the event of&nbsp\;the year you do not want to miss!<br />\n<br />\nCheck out our newsletter for the award nomination link!&nbsp\;</span></h2>\n
LOCATION:Fredericksburg Convention Center 2371 Carl D Silver Parkway Fredericksburg\, VA 22401
UID:e.492.13824
SEQUENCE:3
DTSTAMP:20260422T054647Z
URL:https://members.fredericksburgchamber.org/events/details/33rd-annual-awards-and-gala-a-night-at-the-monte-carlo-13824
END:VEVENT

END:VCALENDAR
