BEGIN:VCALENDAR
VERSION:2.0
PRODID:-//ChamberMaster//Event Calendar 2.0//EN
METHOD:PUBLISH
X-PUBLISHED-TTL:P3D
REFRESH-INTERVAL:P3D
CALSCALE:GREGORIAN
BEGIN:VEVENT
DTSTART:20230318T220000Z
DTEND:20230319T020000Z
X-MICROSOFT-CDO-ALLDAYEVENT:FALSE
SUMMARY:3rd Annual Gelding Ball: A Gatsby Affair
DESCRIPTION:You're Invited!\n\nThe CVHR Annual Gelding Ball is BACK for 2023 and we are excited to see you at the Fredericksburg Country Club!  Tickets are currently on sale.\n\n\n\nThe Annual Gelding Ball is Central Virginia Horse Rescue's largest fundraising event for the year and provides funding towards veterinary care of horses\, donkeys and mules in our care as well as within our community whose owners are facing financial hardships.\n\n\n\nCome dance the night away\, learn more about CVHR and bid on our amazing silent auction items.\n\n\n\nThank you to our Sponsors:\n\n\n\nBeverage Sponsor: \n\nThe Port Oysteria & Brewery\n\n\n\nSilver Sponsors:\n\nBurke & Herbert Bank & Trust\n\nTractor Supply Company\n\n\n\nTable Sponsors:\n\nAmy Cherry Taylor & Associates\n\nLance Knight\, Realtor\n\nOlde Towne Equine Veterinary & Chiropractic\n\n\n\nPhotobooth Sponsorship:\n\nFlashFotoBooth\n\n\n\nSponsorship Package:  https://bit.ly/2023GeldingBallSponsorship\n\nPurchase Tickets:  https://bit.ly/cvhrgeldingball2023
X-ALT-DESC;FMTTYPE=text/html:<h1>You&#39\;re Invited!</h1>\n\n<p>The CVHR Annual Gelding Ball is BACK for 2023 and we are excited to see you at the Fredericksburg Country Club!&nbsp\; Tickets are currently on sale.<br />\n<br />\nThe Annual Gelding Ball is Central Virginia Horse Rescue&#39\;s largest fundraising event for the year and provides funding towards veterinary care of horses\, donkeys and mules in our care as well as within our community whose owners are facing financial hardships.<br />\n<br />\nCome dance the night away\, learn more about CVHR and bid on our amazing silent auction items.<br />\n<br />\nThank you to our Sponsors:<br />\n<br />\nBeverage Sponsor:&nbsp\;<br />\nThe Port Oysteria &amp\; Brewery<br />\n<br />\nSilver Sponsors:<br />\nBurke &amp\; Herbert Bank &amp\; Trust<br />\nTractor Supply Company<br />\n<br />\nTable Sponsors:<br />\nAmy Cherry Taylor &amp\; Associates<br />\nLance Knight\, Realtor<br />\nOlde Towne Equine Veterinary &amp\; Chiropractic<br />\n<br />\nPhotobooth Sponsorship:<br />\nFlashFotoBooth<br />\n<br />\nSponsorship Package:&nbsp\;&nbsp\;https://bit.ly/2023GeldingBallSponsorship<br />\nPurchase Tickets:&nbsp\;&nbsp\;https://bit.ly/cvhrgeldingball2023</p>\n
LOCATION:Fredericksburg Country Club 11031 Tidewater Trl\, Fredericksburg\, VA 22408
UID:e.492.13422
SEQUENCE:3
DTSTAMP:20260422T102727Z
URL:https://members.fredericksburgchamber.org/events/details/3rd-annual-gelding-ball-a-gatsby-affair-13422
END:VEVENT

END:VCALENDAR
