BEGIN:VCALENDAR
VERSION:2.0
PRODID:-//ChamberMaster//Event Calendar 2.0//EN
METHOD:PUBLISH
X-PUBLISHED-TTL:P3D
REFRESH-INTERVAL:P3D
CALSCALE:GREGORIAN
BEGIN:VEVENT
DTSTART:20220910T110000Z
DTEND:20220910T130000Z
X-MICROSOFT-CDO-ALLDAYEVENT:FALSE
SUMMARY:4th Annual FAHASS Chocolate Run 5K/10K
DESCRIPTION:Join FAHASS as we further our mission to positively impact the health of our community through our annual CHOCOLATE RUN! This fun 5k and 10k following the Canal Path & Heritage trails in historic Fredericksburg is a great race to set a new personal record or just to have fun and give back to a great cause. Your support helps to fund a variety of FAHASS community programs & initiatives\, including the new FAHASS Pride Center! To reward all of your hard work we'll have some delicious chocolate treats available at the finish line. So grab your friends & family and join us! Sponsorship opportunities are still available - contact amanda@fahass.org to learn more!
X-ALT-DESC;FMTTYPE=text/html:Join FAHASS as we further our mission to positively impact the health of our community through our annual CHOCOLATE RUN! This fun 5k and 10k following the Canal Path &amp\; Heritage trails in historic Fredericksburg is a great race to set a new personal record or just to have fun and give back to a great cause. Your support helps to fund a variety of FAHASS community programs &amp\; initiatives\, including the new FAHASS Pride Center! To reward all of your hard work we&#39\;ll have some delicious chocolate treats available at the finish line. So grab your friends &amp\; family and join us! Sponsorship opportunities are still available - contact amanda@fahass.org to learn more!
LOCATION:Canal Path/Heritage Trail 415 Elm Street Fredericksburg\, VA 22401
UID:e.492.13029
SEQUENCE:3
DTSTAMP:20260422T194225Z
URL:https://members.fredericksburgchamber.org/events/details/4th-annual-fahass-chocolate-run-5k-10k-13029
END:VEVENT

END:VCALENDAR
