BEGIN:VCALENDAR
VERSION:2.0
PRODID:-//ChamberMaster//Event Calendar 2.0//EN
METHOD:PUBLISH
X-PUBLISHED-TTL:P3D
REFRESH-INTERVAL:P3D
CALSCALE:GREGORIAN
BEGIN:VEVENT
DTSTART:20240316T220000Z
DTEND:20240317T020000Z
X-MICROSOFT-CDO-ALLDAYEVENT:FALSE
SUMMARY:4th Annual Gelding Ball
DESCRIPTION:4th Annual Gelding Ball Benefiting Central Virginia Horse Rescue\n\n "A Night to Celebrate\, Save Lives\, and Dance Hoof-in-Hoof"\n\nEvent Details\n\nDate:  Saturday\, March 16\, 2024\n\nTime: 6:00 PM - 10:00 PM\n\nLocation: Inn at Old Silk Mill\n\nAbout the Event\n\nJoin us for a night of elegance\, fun\, and philanthropy at the 4th Annual Gelding Ball\, benefiting the Central Virginia Horse Rescue. This annual gala aims to raise $75\,000 to go directly towards veterinary fees for the rescue horses that rely on the compassionate care of the Central Virginia Horse Rescue.\n\nHighlights of the Night\n\n\n	Silent Auction: Bid on exciting items ranging from equestrian gear to luxury vacations.\n	Raffle: Enter for a chance to win fabulous prizes. Each ticket brings us closer to our fundraising goal.\n	Open Bar: Enjoy a selection of fine wines\, beers\, and cocktails.\n	Awards Presentation: Witness the inspiring Youth Trainer Challenge\, where the stars of tomorrow are recognized for their exceptional horse training skills.\n	Dancing: Dance the night away to live music\, because no ball is complete without a bit of twirling.\n	Good Times: This is more than a night out\; it's a celebration of community\, compassion\, and the powerful bond between humans and horses.\n\n\nWhy Your Participation Matters\n\nYour attendance helps us provide medical care\, rehabilitation\, and a safe haven for the horses we rescue. Each year\, the Central Virginia Horse Rescue steps in to give dozens of horses a second chance at life. But we can't do it alone. We need you.\n\n How to Get Involved\n\n1. Buy a Ticket: Secure your spot at the gala of the year.\n\n2. Sponsorship: Become an event sponsor to make a significant impact.\n\n3. Donate an Auction Item: Help us make the silent auction a success.\n\n4. Volunteer: We're always looking for a few extra hands.\n\n5. Spread the Word: Share the event on social media.\n\nFor more information or to get involved\, please contact rescue@centralvahorserescue.com.\n\nWe look forward to seeing you at this spectacular event\, united in the common goal of changing lives\, both equine and human.\n\n*Saddle up for a good cause!*\n\nEvent Sponsors:\n\nWe want to thank our sponsors for supporting the 4th Annual Gelding Ball.\n\nSilver Sponsors:\n\n\n	Piedmont Equine Clinic\n\n\nTable Sponsors\n\n\n	Olde Towne Equine Veterinary & Chiropractic\n	KR Quarter Horses\n	Molly Van Kampen\n	Pythagoras Remodeling LLC\n	Bob Hyland & Peanut Butter\n\n\nBronze Sponsors:\n\n\n	Amy Cherry Taylor & Associates\n	Burke & Herbert Bank & Trust\n	Commonwealth Business Services
X-ALT-DESC;FMTTYPE=text/html:<h1>4th Annual Gelding Ball Benefiting Central Virginia Horse Rescue</h1>\n\n<h3>&nbsp\;&quot\;A Night to Celebrate\, Save Lives\, and Dance Hoof-in-Hoof&quot\;</h3>\n\n<p><strong>Event Details</strong><br />\nDate:&nbsp\;&nbsp\;Saturday\, March 16\, 2024<br />\nTime:&nbsp\;6:00 PM -&nbsp\;10:00 PM<br />\nLocation:&nbsp\;Inn at Old Silk Mill</p>\n\n<p><strong>About the Event</strong><br />\nJoin us for a night of elegance\, fun\, and philanthropy at the 4th Annual Gelding Ball\, benefiting the Central Virginia Horse Rescue. This annual gala aims to raise $75\,000 to go directly towards veterinary fees for the rescue horses that rely on the compassionate care of the Central Virginia Horse Rescue.</p>\n\n<p><strong>Highlights of the Night</strong></p>\n\n<ul>\n	<li><strong>Silent Auction:</strong>&nbsp\;Bid on exciting items ranging from equestrian gear to luxury vacations.</li>\n	<li><strong>Raffle</strong>: Enter for a chance to win fabulous prizes. Each ticket brings us closer to our fundraising goal.</li>\n	<li><strong>Open Bar</strong>: Enjoy a selection of fine wines\, beers\, and cocktails.</li>\n	<li><strong>Awards Presentation</strong>: Witness the inspiring Youth Trainer Challenge\, where the stars of tomorrow are recognized for their exceptional horse training skills.</li>\n	<li><strong>Dancing</strong>: Dance the night away to live music\, because no ball is complete without a bit of twirling.</li>\n	<li><strong>Good Times:&nbsp\;</strong>This is more than a night out\; it&#39\;s a celebration of community\, compassion\, and the powerful bond between humans and horses.</li>\n</ul>\n\n<p><strong>Why Your Participation Matters</strong><br />\nYour attendance helps us provide medical care\, rehabilitation\, and a safe haven for the horses we rescue. Each year\, the Central Virginia Horse Rescue steps in to give dozens of horses a second chance at life. But we can&#39\;t do it alone. We need you.</p>\n\n<p><strong>&nbsp\;How to Get Involved</strong><br />\n1.&nbsp\;<strong>Buy a Ticket</strong>: Secure your spot at the gala of the year.<br />\n2.&nbsp\;<strong>Sponsorship</strong>: Become an event sponsor to make a significant impact.<br />\n3.&nbsp\;<strong>Donate an Auction Item</strong>: Help us make the silent auction a success.<br />\n4.<strong>&nbsp\;Volunteer</strong>: We&#39\;re always looking for a few extra hands.<br />\n5.&nbsp\;<strong>Spread the Word:</strong>&nbsp\;Share the event on social media.</p>\n\n<p>For more information or to get involved\, please contact rescue@centralvahorserescue.com.</p>\n\n<p>We look forward to seeing you at this spectacular event\, united in the common goal of changing lives\, both equine and human.</p>\n\n<p>*Saddle up for a good cause!*</p>\n\n<h2>Event Sponsors:</h2>\n\n<p>We want to thank our sponsors for supporting the 4th Annual Gelding Ball.</p>\n\n<p><strong>Silver Sponsors:</strong></p>\n\n<ul>\n	<li>Piedmont Equine Clinic</li>\n</ul>\n\n<p><strong>Table Sponsors</strong></p>\n\n<ul>\n	<li>Olde Towne Equine Veterinary &amp\; Chiropractic</li>\n	<li>KR Quarter Horses</li>\n	<li>Molly Van Kampen</li>\n	<li>Pythagoras Remodeling LLC</li>\n	<li>Bob Hyland &amp\; Peanut Butter</li>\n</ul>\n\n<p><strong>Bronze Sponsors:</strong></p>\n\n<ul>\n	<li>Amy Cherry Taylor &amp\; Associates</li>\n	<li>Burke &amp\; Herbert Bank &amp\; Trust</li>\n	<li>Commonwealth Business Services</li>\n</ul>\n
LOCATION:Inn at Old Silk Mill 1707 Princess Anne St\, Fredericksburg\, VA 22401
UID:e.492.13847
SEQUENCE:3
DTSTAMP:20260422T035340Z
URL:https://members.fredericksburgchamber.org/events/details/4th-annual-gelding-ball-13847
END:VEVENT

END:VCALENDAR
