BEGIN:VCALENDAR
VERSION:2.0
PRODID:-//ChamberMaster//Event Calendar 2.0//EN
METHOD:PUBLISH
X-PUBLISHED-TTL:P3D
REFRESH-INTERVAL:P3D
CALSCALE:GREGORIAN
BEGIN:VEVENT
DTSTART:20220919T150000Z
DTEND:20220920T000000Z
X-MICROSOFT-CDO-ALLDAYEVENT:FALSE
SUMMARY:516 Project Dine In Mellow Mushrrom
DESCRIPTION:Come Dine in and Join us At Mellow Mushroom Fredericksburg and support 516 Project a 501 That helps us Build access to hope for those in need in our Community. 516Project.org
X-ALT-DESC;FMTTYPE=text/html:Come Dine in and Join us At Mellow Mushroom Fredericksburg and support 516 Project a 501 That helps us Build access to hope for those in need in our Community. 516Project.org
LOCATION:Mellow Mushroom Fredericksburg 609 Wiliams St. Fredericksburg 22401
UID:e.492.13116
SEQUENCE:3
DTSTAMP:20260422T225307Z
URL:https://members.fredericksburgchamber.org/events/details/516-project-dine-in-mellow-mushrrom-13116
END:VEVENT

END:VCALENDAR
