BEGIN:VCALENDAR
VERSION:2.0
PRODID:-//ChamberMaster//Event Calendar 2.0//EN
METHOD:PUBLISH
X-PUBLISHED-TTL:P3D
REFRESH-INTERVAL:P3D
CALSCALE:GREGORIAN
BEGIN:VEVENT
DTSTART:20230909T110000Z
DTEND:20230909T130000Z
X-MICROSOFT-CDO-ALLDAYEVENT:FALSE
SUMMARY:5th Annual FAHASS Chocolate Run
DESCRIPTION:Join FAHASS for our 5TH ANNUAL Chocolate Run! This fun 5k and 10k follows the Canal Path & Heritage trails in historic Fredericksburg and includes delicious chocolatey treats for all! Whether you're looking to set a new PR or just get your body moving with some friendly faces\, this is a great race for everyone - no matter their fitness level. And all while supporting a great local cause and providing support for LGBTQ & minority health in our community. You'll also have the opportunity to create teams this year and can help FAHASS raise even more. So grab your friends and family and come join us on Sept 9 in Downtown Fredericksburg. Family Friendly Pet Friendly Sweet Tooth Friendly *EARLY BIRD PRICING ENDS JULY 1\, 2023* Sponsorship & Vendor Opportunities Are Available! We'd love to have you join us. Please contact Amanda Strawn at amanda@fahass.org
X-ALT-DESC;FMTTYPE=text/html:Join FAHASS for our 5TH ANNUAL Chocolate Run! This fun 5k and 10k follows the Canal Path &amp\; Heritage trails in historic Fredericksburg and includes delicious chocolatey treats for all! Whether you&#39\;re looking to set a new PR or just get your body moving with some friendly faces\, this is a great race for everyone - no matter their fitness level. And all while supporting a great local cause and providing support for LGBTQ &amp\; minority health in our community. You&#39\;ll also have the opportunity to create teams this year and can help FAHASS raise even more. So grab your friends and family and come join us on Sept 9 in Downtown Fredericksburg. Family Friendly Pet Friendly Sweet Tooth Friendly *EARLY BIRD PRICING ENDS JULY 1\, 2023* Sponsorship &amp\; Vendor Opportunities Are Available! We&#39\;d love to have you join us. Please contact Amanda Strawn at amanda@fahass.org
LOCATION:FAHASS Downtown 415 Elm St Fredericksburg\, VA 22401
UID:e.492.13538
SEQUENCE:3
DTSTAMP:20260422T005014Z
URL:https://members.fredericksburgchamber.org/events/details/5th-annual-fahass-chocolate-run-13538
END:VEVENT

END:VCALENDAR
