BEGIN:VCALENDAR
VERSION:2.0
PRODID:-//ChamberMaster//Event Calendar 2.0//EN
METHOD:PUBLISH
X-PUBLISHED-TTL:P3D
REFRESH-INTERVAL:P3D
CALSCALE:GREGORIAN
BEGIN:VEVENT
DTSTART:20230418T160000Z
DTEND:20230418T170000Z
X-MICROSOFT-CDO-ALLDAYEVENT:FALSE
SUMMARY:6 Simple ways to get Cybersecurity for your Small Business
DESCRIPTION:Todd Mitchell owner of Cybersecurity4biz\, LLC will walk you through 6 things you can do from your desk\, right now\, for FREE\, to improve your cybersecurity posture for your business\, office/home\, and self! Key Takeaways: - Improving Network Cybersecurity by configuring your router properly - Improving Computer Cybersecurity by making sure security patches are updated\, firewalls and detection software are configured properly\, user accounts are unique\, passwords are strong\, and attachments open in protected mode. - Learning Cybersecurity Awareness Tips
X-ALT-DESC;FMTTYPE=text/html:Todd Mitchell owner of Cybersecurity4biz\, LLC will walk you through 6 things you can do from your desk\, right now\, for FREE\, to improve your cybersecurity posture for your business\, office/home\, and self! Key Takeaways: - Improving Network Cybersecurity by configuring your router properly - Improving Computer Cybersecurity by making sure security patches are updated\, firewalls and detection software are configured properly\, user accounts are unique\, passwords are strong\, and attachments open in protected mode. - Learning Cybersecurity Awareness Tips
LOCATION:Virtual
UID:e.492.13446
SEQUENCE:3
DTSTAMP:20260422T092124Z
URL:https://members.fredericksburgchamber.org/events/details/6-simple-ways-to-get-cybersecurity-for-your-small-business-13446
END:VEVENT

END:VCALENDAR
