BEGIN:VCALENDAR
VERSION:2.0
PRODID:-//ChamberMaster//Event Calendar 2.0//EN
METHOD:PUBLISH
X-PUBLISHED-TTL:P3D
REFRESH-INTERVAL:P3D
CALSCALE:GREGORIAN
BEGIN:VEVENT
DTSTART:19800101T050000Z
DTEND:19800101T050000Z
X-MICROSOFT-CDO-ALLDAYEVENT:FALSE
SUMMARY:Chamber Challenge 2006
DESCRIPTION:
X-ALT-DESC;FMTTYPE=text/html:
LOCATION:
UID:e.492.316
SEQUENCE:3
DTSTAMP:20260426T000210Z
URL:https://members.fredericksburgchamber.org/events/details/60547EAE-8E3C-4288-838E-7EB9EAD4CF65-316
END:VEVENT

END:VCALENDAR
