BEGIN:VCALENDAR
VERSION:2.0
PRODID:-//ChamberMaster//Event Calendar 2.0//EN
METHOD:PUBLISH
X-PUBLISHED-TTL:P3D
REFRESH-INTERVAL:P3D
CALSCALE:GREGORIAN
BEGIN:VEVENT
DTSTART:19800101T050000Z
DTEND:19800101T050000Z
X-MICROSOFT-CDO-ALLDAYEVENT:FALSE
SUMMARY:Mailing List - Phone Book
DESCRIPTION:
X-ALT-DESC;FMTTYPE=text/html:
LOCATION:
UID:e.492.407
SEQUENCE:3
DTSTAMP:20260426T000330Z
URL:https://members.fredericksburgchamber.org/events/details/73EE9531-9B2C-4996-A969-B0689C174066-407
END:VEVENT

END:VCALENDAR
