BEGIN:VCALENDAR
VERSION:2.0
PRODID:-//ChamberMaster//Event Calendar 2.0//EN
METHOD:PUBLISH
X-PUBLISHED-TTL:P3D
REFRESH-INTERVAL:P3D
CALSCALE:GREGORIAN
BEGIN:VEVENT
DTSTART:19800101T050000Z
DTEND:19800101T050000Z
X-MICROSOFT-CDO-ALLDAYEVENT:FALSE
SUMMARY:Coffee Table Book
DESCRIPTION:
X-ALT-DESC;FMTTYPE=text/html:
LOCATION:
UID:e.492.46
SEQUENCE:3
DTSTAMP:20260425T235553Z
URL:https://members.fredericksburgchamber.org/events/details/D14178DF-FD27-4946-8B78-4DFE1891BA4A-46
END:VEVENT

END:VCALENDAR
