BEGIN:VCALENDAR
VERSION:2.0
PRODID:-//ChamberMaster//Event Calendar 2.0//EN
METHOD:PUBLISH
X-PUBLISHED-TTL:P3D
REFRESH-INTERVAL:P3D
CALSCALE:GREGORIAN
BEGIN:VEVENT
DTSTART:19800101T050000Z
DTEND:19800101T050000Z
X-MICROSOFT-CDO-ALLDAYEVENT:FALSE
SUMMARY:Commonwealth Transp. Board
DESCRIPTION:
X-ALT-DESC;FMTTYPE=text/html:
LOCATION:
UID:e.492.237
SEQUENCE:3
DTSTAMP:20260425T235911Z
URL:https://members.fredericksburgchamber.org/events/details/EEE597B3-FE6F-4BF9-B2DE-5DFB41A3E556-237
END:VEVENT

END:VCALENDAR
