BEGIN:VCALENDAR
VERSION:2.0
PRODID:-//ChamberMaster//Event Calendar 2.0//EN
METHOD:PUBLISH
X-PUBLISHED-TTL:P3D
REFRESH-INTERVAL:P3D
CALSCALE:GREGORIAN
BEGIN:VEVENT
DTSTART:19800101T050000Z
DTEND:19800101T050000Z
X-MICROSOFT-CDO-ALLDAYEVENT:FALSE
SUMMARY:CNEW (12/06)
DESCRIPTION:
X-ALT-DESC;FMTTYPE=text/html:
LOCATION:
UID:e.492.381
SEQUENCE:3
DTSTAMP:20260426T000123Z
URL:https://members.fredericksburgchamber.org/events/details/F67CB4AA-783C-4DB2-A14D-D6A878BFC251-381
END:VEVENT

END:VCALENDAR
