BEGIN:VCALENDAR
VERSION:2.0
PRODID:-//ChamberMaster//Event Calendar 2.0//EN
METHOD:PUBLISH
X-PUBLISHED-TTL:P3D
REFRESH-INTERVAL:P3D
CALSCALE:GREGORIAN
BEGIN:VEVENT
DTSTART:20251012T203000Z
DTEND:20251013T003000Z
X-MICROSOFT-CDO-ALLDAYEVENT:FALSE
SUMMARY:A Downtown Affair
DESCRIPTION:Join us for A Downtown Affair - a seven course al fresco dining experience in the heart of Downtown Fredericksburg benefitting Fredericksburg VA Main Street.\n\n\n\nEnvision strolling through Downtown on an autumn evening and coming upon beautifully adorned tables beneath soft globes of light. Neighbors and friends fill the street while they chatter and enjoy local fare within the beauty and charn of Fredericksburg. \n\n\n\nGuests will dine their way through seven courses of world class cuisine prepared by some of Downtown's finest restaurants. Plus enjoy signature craft cocktails\, wine\, and local craft beer.\n\n\n\nFeatured Restaurant Lineup\n\n\n\nStarter Course: River's End & Galvin's Delicatessen\n\n\n\nSoup Course: The Port\n\n\n\nSalad Course: Harry's Sidecar\n\n\n\nPasta Course: Ristorante Renato's\n\n\n\nFish Course: Chef Blake Bethem for Ironclad Inn & Bourbon Room\n\n\n\nMain Course: Five Chophouse\n\n\n\nDessert Course: Anita's Caf  & Dessert Bar\n\n\n\nA Downtown Affair will be on Sunday\, October 12th on the 900 block of Charles Street. Tickets are going fast\, and sponsorships are still available. Visit our website or contact Kristen Reed to learn more.
X-ALT-DESC;FMTTYPE=text/html:<p><span style="font-size:14px"><strong>Join us for A Downtown Affair - a seven course al fresco dining experience in the heart of Downtown Fredericksburg benefitting Fredericksburg VA Main Street.</strong><br />\n<br />\nEnvision strolling through Downtown on an autumn evening and coming upon beautifully adorned tables beneath soft globes of light. Neighbors and friends fill the street while they chatter and enjoy local fare within the beauty and charn of Fredericksburg.&nbsp\;<br />\n<br />\nGuests will dine their way through seven courses of world class cuisine prepared by some of Downtown&#39\;s finest restaurants. Plus enjoy signature craft cocktails\, wine\, and local craft beer.<br />\n<br />\n<strong>Featured Restaurant Lineup</strong><br />\n<br />\nStarter Course: <strong>River&rsquo\;s End &amp\; Galvin&rsquo\;s Delicatessen</strong><br />\n<br />\nSoup Course: <strong>The Port</strong><br />\n<br />\nSalad Course: <strong>Harry&rsquo\;s Sidecar</strong><br />\n<br />\nPasta Course: <strong>Ristorante Renato&rsquo\;s</strong><br />\n<br />\nFish Course: <strong>Chef Blake Bethem for Ironclad Inn &amp\; Bourbon Room</strong><br />\n<br />\nMain Course: <strong>Five Chophouse</strong><br />\n<br />\nDessert Course: <strong>Anita&rsquo\;s Caf&eacute\; &amp\; Dessert Bar</strong><br />\n<br />\nA Downtown Affair will be on Sunday\, October 12th on the 900 block of Charles Street. Tickets are going fast\, and sponsorships are still available. Visit our website or contact Kristen Reed to learn more.</span></p>\n\n<p>&nbsp\;</p>\n
LOCATION:900 Block of Charles Street
UID:e.492.15022
SEQUENCE:3
DTSTAMP:20260421T193224Z
URL:https://members.fredericksburgchamber.org/events/details/a-downtown-affair-10-12-2025-15022
END:VEVENT

END:VCALENDAR
