BEGIN:VCALENDAR
VERSION:2.0
PRODID:-//ChamberMaster//Event Calendar 2.0//EN
METHOD:PUBLISH
X-PUBLISHED-TTL:P3D
REFRESH-INTERVAL:P3D
CALSCALE:GREGORIAN
BEGIN:VEVENT
DTSTART;VALUE=DATE:20231223
DTEND;VALUE=DATE:20231225
TRANSP:TRANSPARENT
X-MICROSOFT-CDO-ALLDAYEVENT:TRUE
SUMMARY:A Year Without A Santa Claus
DESCRIPTION:Join us as we celebrate the holiday season! Enjoy classic holiday films on our Giant-Screen at the Medal of Honor Theater inside of the National Museum of the Marine Corps. Each weekend will feature a new holiday film. Showings will be available Saturday and Sunday\, 11AM and 3PM. Tickets are available for $8 each\, or add a snack bundle for an additional $5. Snack bundles include a choice of snacks and drinks and can be enjoyed inside of the theater during the film. -A Year Without A Santa Claus\, Rated G\, 60 minutes- Animated fantasy about a saddened Santa who decides not to make his annual ride. The score includes such holiday favorites as "Blue Christmas\," along with six tunes composed by Maury Laws and Jules Bass.
X-ALT-DESC;FMTTYPE=text/html:Join us as we celebrate the holiday season! Enjoy classic holiday films on our Giant-Screen at the Medal of Honor Theater inside of the National Museum of the Marine Corps. Each weekend will feature a new holiday film. Showings will be available Saturday and Sunday\, 11AM and 3PM. Tickets are available for $8 each\, or add a snack bundle for an additional $5. Snack bundles include a choice of snacks and drinks and can be enjoyed inside of the theater during the film. -A Year Without A Santa Claus\, Rated G\, 60 minutes- Animated fantasy about a saddened Santa who decides not to make his annual ride. The score includes such holiday favorites as &quot\;Blue Christmas\,&quot\; along with six tunes composed by Maury Laws and Jules Bass.
LOCATION:National Museum of the Marine Corps' Medal of Honor Theater 1775 Semper Fidelis Way Triangle\, VA 22172
UID:e.492.13768
SEQUENCE:3
DTSTAMP:20260421T232615Z
URL:https://members.fredericksburgchamber.org/events/details/a-year-without-a-santa-claus-13768
END:VEVENT

END:VCALENDAR
