BEGIN:VCALENDAR
VERSION:2.0
PRODID:-//ChamberMaster//Event Calendar 2.0//EN
METHOD:PUBLISH
X-PUBLISHED-TTL:P3D
REFRESH-INTERVAL:P3D
CALSCALE:GREGORIAN
BEGIN:VEVENT
DTSTART:20260122T150000Z
DTEND:20260122T170000Z
X-MICROSOFT-CDO-ALLDAYEVENT:FALSE
SUMMARY:Accountability Group Series & Vision Board Workshop
DESCRIPTION:You've created the vision now it's time to take action. This isn't just a workshop\; it's the start of a year long accountability journey. Join our accountability group to stay focused\, aligned\, and supported as you turn your goals into results. Click the link below to learn more and secure your spot.\n\n\n\nhttps://www.eventbrite.com/e/growth-playbook-scale-your-business-without-chaos-tickets-1979745558258?utm-campaign=social&utm-content=attendeeshare&utm-medium=discovery&utm-term=listing&utm-source=cp&aff=ebdsshcopyurl
X-ALT-DESC;FMTTYPE=text/html:<p>You&#39\;ve created the vision now it&#39\;s time to take action. This isn&#39\;t just a workshop\; it&#39\;s the start of a year long accountability journey. Join our accountability group to stay focused\, aligned\, and supported as you turn your goals into results. Click the link below to learn more and secure your spot.<br />\n<br />\nhttps://www.eventbrite.com/e/growth-playbook-scale-your-business-without-chaos-tickets-1979745558258?utm-campaign=social&amp\;utm-content=attendeeshare&amp\;utm-medium=discovery&amp\;utm-term=listing&amp\;utm-source=cp&amp\;aff=ebdsshcopyurl</p>\n
LOCATION:SUCCESS Space Fredericksburg 1 Towne Centre Blvd. Suite 2500 Fredericksburg\, VA 22407
UID:e.492.15127
SEQUENCE:3
DTSTAMP:20260421T144245Z
URL:https://members.fredericksburgchamber.org/events/details/accountability-group-series-vision-board-workshop-15127
END:VEVENT

END:VCALENDAR
