BEGIN:VCALENDAR
VERSION:2.0
PRODID:-//ChamberMaster//Event Calendar 2.0//EN
METHOD:PUBLISH
X-PUBLISHED-TTL:P3D
REFRESH-INTERVAL:P3D
CALSCALE:GREGORIAN
BEGIN:VEVENT
DTSTART:20260123T003000Z
DTEND:20260123T013000Z
X-MICROSOFT-CDO-ALLDAYEVENT:FALSE
SUMMARY:Aimee Semple McPherson: A Great Lives UMW Museums Lecture with Claire Hoffman
DESCRIPTION:Claire Hoffman speaks at a Great Lives lecture about Sister\, Sinner: The Miraculous Life and Mysterious Disappearance of Aimee Semple McPherson\, sponsored by UMW Museums. The event begins in George Washington Hall's Dodd Auditorium at 7:30 PM\, and doors open at 6:30 PM.
X-ALT-DESC;FMTTYPE=text/html:Claire Hoffman speaks at a Great Lives lecture about Sister\, Sinner: The Miraculous Life and Mysterious Disappearance of Aimee Semple McPherson\, sponsored by UMW Museums. The event begins in George Washington Hall&rsquo\;s Dodd Auditorium at 7:30 PM\, and doors open at 6:30 PM.
LOCATION:1301 College Ave\, Fredericksburg\, VA 22401
UID:e.492.15140
SEQUENCE:3
DTSTAMP:20260421T145000Z
URL:https://members.fredericksburgchamber.org/events/details/aimee-semple-mcpherson-a-great-lives-umw-museums-lecture-with-claire-hoffman-15140
END:VEVENT

END:VCALENDAR
