BEGIN:VCALENDAR
VERSION:2.0
PRODID:-//ChamberMaster//Event Calendar 2.0//EN
METHOD:PUBLISH
X-PUBLISHED-TTL:P3D
REFRESH-INTERVAL:P3D
CALSCALE:GREGORIAN
BEGIN:VEVENT
DTSTART:20250409T223000Z
DTEND:20250410T010000Z
X-MICROSOFT-CDO-ALLDAYEVENT:FALSE
SUMMARY:Alice In Wonderland
DESCRIPTION:Freedom Middle School's musical theater program presents the famous story of Disney's Alice in Wonderland! When young Alice finds herself in a strange world where everything seems upside down\, she must find her way home and find herself along the way. As she travels through Wonderland\, she encounters all of the iconic characters that audiences have come to love: including the ever-tardy White Rabbit\, the grinning Cheshire Cat\, a cool Caterpillar\, the wacky Mad Hatter\, and the hot-tempered Queen of Hearts. The show features Disney favorites such as "The Golden Afternoon\," "The Unbirthday Song\," and "Painting the Roses Red" along with brand-new songs\, including music from the 2010 live-action film. Whether this is your first experience with Alice or your hundredth\, you'll fall in love all over again with this timeless story of adventure\, imagination\, and pure fun! Our show is open to all and we look forward to packing the house for our cast each and every night! In addition to attending\, please bring cleaning wipes\, shampoo/conditioner\, bar soap\, dish soap\, or a laundry item to support Spotsylvania County Public Schools Treasure House.
X-ALT-DESC;FMTTYPE=text/html:Freedom Middle School&#39\;s musical theater program presents the famous story of Disney&#39\;s Alice in Wonderland! When young Alice finds herself in a strange world where everything seems upside down\, she must find her way home&hellip\;and find herself along the way. As she travels through Wonderland\, she encounters all of the iconic characters that audiences have come to love: including the ever-tardy White Rabbit\, the grinning Cheshire Cat\, a cool Caterpillar\, the wacky Mad Hatter\, and the hot-tempered Queen of Hearts. The show features Disney favorites such as &ldquo\;The Golden Afternoon\,&rdquo\; &ldquo\;The Unbirthday Song\,&rdquo\; and &ldquo\;Painting the Roses Red&rdquo\; along with brand-new songs\, including music from the 2010 live-action film. Whether this is your first experience with Alice or your hundredth\, you&rsquo\;ll fall in love all over again with this timeless story of adventure\, imagination\, and pure fun! Our show is open to all and we look forward to packing the house for our cast each and every night! In addition to attending\, please bring cleaning wipes\, shampoo/conditioner\, bar soap\, dish soap\, or a laundry item to support Spotsylvania County Public Schools Treasure House.
LOCATION:Freedom Middle School Theater 7315 Smith Station Road Fredericksburg\, VA 22407
UID:e.492.14507
SEQUENCE:3
DTSTAMP:20260422T071915Z
URL:https://members.fredericksburgchamber.org/events/details/alice-in-wonderland-14507
END:VEVENT

END:VCALENDAR
