BEGIN:VCALENDAR
VERSION:2.0
PRODID:-//ChamberMaster//Event Calendar 2.0//EN
METHOD:PUBLISH
X-PUBLISHED-TTL:P3D
REFRESH-INTERVAL:P3D
CALSCALE:GREGORIAN
BEGIN:VEVENT
DTSTART:20221120T190000Z
DTEND:20221120T220000Z
X-MICROSOFT-CDO-ALLDAYEVENT:FALSE
SUMMARY:Always Flavored Grand Opening and Ribbon Cutting!
DESCRIPTION:Join Always Flavored for the Grand Opening Party of our Bistro and Retail Location on November 20th from 2 pm-5 pm!\n\nThe event will be at 1711 Princess Anne St. in Downtown Fredericksburg!\n\nThis community Block Party will have lots of food\, live music performances by local artists\, face painting for children\, and more!\n\nWe invite you to bring your friends and family - there will be activities for everyone at this fun-filled event!
X-ALT-DESC;FMTTYPE=text/html:<div>Join Always Flavored for the Grand Opening Party of our Bistro and Retail Location on November 20th from 2 pm-5 pm!<br />\nThe event will be at 1711 Princess Anne St. in Downtown Fredericksburg!<br />\nThis community Block Party will have lots of food\, live music performances by local artists\, face painting for children\, and more!</div>\n\n<div>We invite you to bring your friends and family - there will be activities for everyone at this fun-filled event!</div>\n
LOCATION:1711 Princess Anne St\, Fredericksburg\, VA 22401
UID:e.492.13182
SEQUENCE:3
DTSTAMP:20260422T164016Z
URL:https://members.fredericksburgchamber.org/events/details/always-flavored-grand-opening-and-ribbon-cutting-13182
END:VEVENT

END:VCALENDAR
