BEGIN:VCALENDAR
VERSION:2.0
PRODID:-//ChamberMaster//Event Calendar 2.0//EN
METHOD:PUBLISH
X-PUBLISHED-TTL:P3D
REFRESH-INTERVAL:P3D
CALSCALE:GREGORIAN
BEGIN:VEVENT
DTSTART:20241102T133000Z
DTEND:20241102T190000Z
X-MICROSOFT-CDO-ALLDAYEVENT:FALSE
SUMMARY:Animal Rescue Festival
DESCRIPTION:Join the Fredericksburg SPCA on Saturday\, November 2 for an exciting day dedicated to saving the lives of our community's animals!\n\nThe day begins at Hurkamp Park with the Walk for the Animals\; a one-mile stroll through historic downtown Fredericksburg at 9:30 a.m. (personal pets welcome!)\n\nAfter the walk\, join the free celebration at Hurkamp Park from 10:00 a.m. to 3:00 p.m. featuring local vendors\, music\, food trucks\, beer\, and more.\n\nRegister Walk for the Animals: $35\; includes the walk\, Animal Rescue Festival t-shirt\, and a limited-edition stadium cup with one fill-up. B101.5 is a proud sponsor of the Fredericksburg SPCA.\n\nSaturday\, Nov 2\, 2024\n\n9:30 am - 3:00 pm\n\nHurkamp Park\n\n500 William Street Fredericksburg\, VA 22401\n\n\n\nfredspca.salsalabs.org/arf2024
X-ALT-DESC;FMTTYPE=text/html:<p><span style="color:rgb(5\, 5\, 5)\; font-family:roboto\,sans-serif\; font-size:11.5pt">Join the Fredericksburg SPCA on Saturday\, November 2 for an exciting day dedicated to saving the lives of our community&#39\;s animals!</span></p>\n\n<p><span style="color:rgb(5\, 5\, 5)\; font-family:roboto\,sans-serif\; font-size:11.5pt">The day begins at Hurkamp Park with the Walk for the Animals\; a one-mile stroll through historic downtown Fredericksburg at 9:30 a.m. (personal pets welcome!)</span></p>\n\n<p><span style="color:rgb(5\, 5\, 5)\; font-family:roboto\,sans-serif\; font-size:11.5pt">After the walk\, join the free celebration at Hurkamp Park from 10:00 a.m. to 3:00 p.m. featuring local vendors\, music\, food trucks\, beer\, and more.</span></p>\n\n<p><span style="color:rgb(5\, 5\, 5)\; font-family:roboto\,sans-serif\; font-size:11.5pt">Register Walk for the Animals: $35\; includes the walk\, Animal Rescue Festival t-shirt\, and a limited-edition stadium cup with one fill-up. B101.5 is a proud sponsor of the Fredericksburg SPCA.</span></p>\n\n<p><span style="color:rgb(5\, 5\, 5)\; font-family:roboto\,sans-serif\; font-size:11.5pt">Saturday\, Nov 2\, 2024</span><br />\n<span style="color:rgb(5\, 5\, 5)\; font-family:roboto\,sans-serif\; font-size:11.5pt">9:30 am - 3:00 pm</span><br />\n<span style="color:rgb(5\, 5\, 5)\; font-family:roboto\,sans-serif\; font-size:11.5pt">Hurkamp Park</span><br />\n<span style="background-color:transparent\; color:rgb(0\, 0\, 0)\; font-family:arial\,sans-serif\; font-size:11pt">500 William Street Fredericksburg\, VA 22401</span><br />\n<br />\n<a href="http://fredspca.salsalabs.org/arf2024"><span style="color:rgb(5\, 5\, 5)\; font-family:roboto\,sans-serif\; font-size:15.3333px">fredspca.salsalabs.org/arf2024</span></a></p>\n\n<div>&nbsp\;</div>\n
LOCATION:Hurkamp Park 500 William Street Fredericksburg\, VA 22401
UID:e.492.14253
SEQUENCE:3
DTSTAMP:20260424T180651Z
URL:https://members.fredericksburgchamber.org/events/details/animal-rescue-festival-11-02-2024-14253
END:VEVENT

END:VCALENDAR
