BEGIN:VCALENDAR
VERSION:2.0
PRODID:-//ChamberMaster//Event Calendar 2.0//EN
METHOD:PUBLISH
X-PUBLISHED-TTL:P3D
REFRESH-INTERVAL:P3D
CALSCALE:GREGORIAN
BEGIN:VEVENT
DTSTART;VALUE=DATE:20231104
DTEND;VALUE=DATE:20231105
TRANSP:TRANSPARENT
X-MICROSOFT-CDO-ALLDAYEVENT:TRUE
SUMMARY:Animal Rescue Festival
DESCRIPTION:Mark your calendars for the Fredericksburg SPCA's annual Animal Rescue Festival happening on Saturday\, November 4 at Hurkamp Park in downtown Fredericksburg. The day kicks off with a one-mile Walk for the Animals at 9:30 a.m. followed by music\, vendors\, a beer and wine garden\, and of course\, adoptable animals in the park until 4:00 p.m.! Become a sponsor\, register to walk with us\, sign up to be a vendor in the park\, or plan to attend the free festival during the day.\n\n\n\nIf you're a local artist or business owner who loves animals\, there are discounted vendor opportunities available until October 15th. After this date\, vendor pricing will go back to the normal annual fee. fredspca.org/events.
X-ALT-DESC;FMTTYPE=text/html:<span style="background-color:transparent\; color:rgb(0\, 0\, 0)\; font-family:arial\,sans-serif\; font-size:11pt">Mark your calendars for the Fredericksburg SPCA&rsquo\;s annual Animal Rescue Festival happening on Saturday\, November 4 at Hurkamp Park in downtown Fredericksburg. The day kicks off with a one-mile Walk for the Animals at 9:30 a.m. followed by music\, vendors\, a beer and wine garden\, and of course\, adoptable animals in the park until 4:00 p.m.! Become a sponsor\, register to walk with us\, sign up to be a vendor in the park\, or plan to attend the free festival during the day.</span><br />\n<br />\n<span style="background-color:transparent\; color:rgb(0\, 0\, 0)\; font-family:arial\,sans-serif\; font-size:11pt">If you&#39\;re a local artist or business owner who loves animals\, there are discounted vendor opportunities available until October 15th. After this date\, vendor pricing will go back to the normal annual fee. fredspca.org/events. </span>
LOCATION:Hurkamp Park 500 William St\, Fredericksburg VA
UID:e.492.13708
SEQUENCE:3
DTSTAMP:20260421T220822Z
URL:https://members.fredericksburgchamber.org/events/details/animal-rescue-festival-11-04-2023-13708
END:VEVENT

END:VCALENDAR
