BEGIN:VCALENDAR
VERSION:2.0
PRODID:-//ChamberMaster//Event Calendar 2.0//EN
METHOD:PUBLISH
X-PUBLISHED-TTL:P3D
REFRESH-INTERVAL:P3D
CALSCALE:GREGORIAN
BEGIN:VEVENT
DTSTART:20221105T133000Z
DTEND:20221105T180000Z
X-MICROSOFT-CDO-ALLDAYEVENT:FALSE
SUMMARY:Animal Rescue Festival
DESCRIPTION:The Fred SPCA's annual Animal Rescue Festival is back! This family-friendly fall festival returns on November 5 at the new and improved Riverfront Park\, the area's first "smart park." Join us for our one-mile "Walk for the Animals" and free festival to follow featuring vendors\, live music\, beer\, food trucks\, and more.\n\nSponsorship & vendor opportunities are available!
X-ALT-DESC;FMTTYPE=text/html:<p>The Fred SPCA&#39\;s annual Animal Rescue Festival is back! This family-friendly fall festival returns on November 5 at the new and improved Riverfront Park\, the area&#39\;s first &quot\;smart park.&quot\; Join us for our one-mile &quot\;<a href="https://fredspca.salsalabs.org/arf2022walkregister">Walk for the Animals</a>&quot\; and free festival to follow featuring vendors\, live music\, beer\, food trucks\, and more.</p>\n\n<p><strong><a href="https://fredspca.salsalabs.org/arf-sponsors">Sponsorship</a> &amp\; <a href="https://fredspca.salsalabs.org/arf-vendors2022">vendor</a> opportunities are available!</strong></p>\n
LOCATION:Riverfront Park in Downtown Fredericksburg 713 Sophia Street\, Fredericksburg\, VA 22401
UID:e.492.13126
SEQUENCE:3
DTSTAMP:20260422T164309Z
URL:https://members.fredericksburgchamber.org/events/details/animal-rescue-festival-11-05-2022-13126
END:VEVENT

END:VCALENDAR
