BEGIN:VCALENDAR
VERSION:2.0
PRODID:-//ChamberMaster//Event Calendar 2.0//EN
METHOD:PUBLISH
X-PUBLISHED-TTL:P3D
REFRESH-INTERVAL:P3D
CALSCALE:GREGORIAN
BEGIN:VEVENT
DTSTART:20230328T150000Z
DTEND:20230328T180000Z
X-MICROSOFT-CDO-ALLDAYEVENT:FALSE
SUMMARY:Annual Woman's Resource Fair
DESCRIPTION:Attend our Annual Resource Fair showcasing women-owned businesses and community resources for women.
X-ALT-DESC;FMTTYPE=text/html:<span style="color:rgb(0\, 0\, 0)\; font-family:verdana\,arial\,helvetica\,sans-serif\; font-size:11px">Attend our Annual Resource Fair showcasing women-owned businesses and community resources for women.</span>
LOCATION:Fredericksburg Area Campus V. Earl Dickinson Building (SP1)\, Main Lobby 10000 Germanna Point Dr Fredericksburg\, Virginia 2240
UID:e.492.13428
SEQUENCE:3
DTSTAMP:20260422T115233Z
URL:https://members.fredericksburgchamber.org/events/details/annual-woman-s-resource-fair-13428
END:VEVENT

END:VCALENDAR
