BEGIN:VCALENDAR
VERSION:2.0
PRODID:-//ChamberMaster//Event Calendar 2.0//EN
METHOD:PUBLISH
X-PUBLISHED-TTL:P3D
REFRESH-INTERVAL:P3D
CALSCALE:GREGORIAN
BEGIN:VEVENT
DTSTART:20230614T140000Z
DTEND:20230614T180000Z
X-MICROSOFT-CDO-ALLDAYEVENT:FALSE
SUMMARY:Art of Aging Expo
DESCRIPTION:The Fifteenth Annual Art of Aging Expo - Life Begins at 50 - will be held at the Fredericksburg Expo Center. This event is organized by the nonprofit group Partners in Aging and seeks to promote healthy aging. This is an educational event at which to discover the wealth of opportunities in our local area for those over the age of 50.
X-ALT-DESC;FMTTYPE=text/html:The Fifteenth Annual Art of Aging Expo - Life Begins at 50 - will be held at the Fredericksburg Expo Center. This event is organized by the nonprofit group Partners in Aging and seeks to promote healthy aging. This is an educational event at which to discover the wealth of opportunities in our local area for those over the age of 50.&nbsp\;
LOCATION:2371 Carl D. Silver Parkway
UID:e.492.13548
SEQUENCE:3
DTSTAMP:20260422T054335Z
URL:https://members.fredericksburgchamber.org/events/details/art-of-aging-expo-13548
END:VEVENT

END:VCALENDAR
