BEGIN:VCALENDAR
VERSION:2.0
PRODID:-//ChamberMaster//Event Calendar 2.0//EN
METHOD:PUBLISH
X-PUBLISHED-TTL:P3D
REFRESH-INTERVAL:P3D
CALSCALE:GREGORIAN
BEGIN:VEVENT
DTSTART:20221020T200000Z
DTEND:20221021T010000Z
X-MICROSOFT-CDO-ALLDAYEVENT:FALSE
SUMMARY:Aslin Tap Takeover at MellowMushroom
DESCRIPTION:Come out as A Local Brewery Aslin Takes over some of our Taps and Mingles and gives away a few things. We will have $4Pint night As Always every Thursday and Happy Hour will be in full swing. Join Us.
X-ALT-DESC;FMTTYPE=text/html:Come out as A Local Brewery Aslin Takes over some of our Taps and Mingles and gives away a few things. We will have $4Pint night As Always every Thursday and Happy Hour will be in full swing. Join Us.
LOCATION:Mellow Mushroom Fredericksburg
UID:e.492.13122
SEQUENCE:3
DTSTAMP:20260422T181057Z
URL:https://members.fredericksburgchamber.org/events/details/aslin-tap-takeover-at-mellowmushroom-13122
END:VEVENT

END:VCALENDAR
