BEGIN:VCALENDAR
VERSION:2.0
PRODID:-//ChamberMaster//Event Calendar 2.0//EN
METHOD:PUBLISH
X-PUBLISHED-TTL:P3D
REFRESH-INTERVAL:P3D
CALSCALE:GREGORIAN
BEGIN:VEVENT
DTSTART:20230222T173000Z
DTEND:20230222T183000Z
X-MICROSOFT-CDO-ALLDAYEVENT:FALSE
SUMMARY:Author James Hall • Black History Month Book Discussion at Germanna
DESCRIPTION:Join the author\, James Hall\, of the books "Condemned for Love" and "The Last Lynching in Northern Virginia" and discuss these true tragic stories and the disturbing and dark times in our country's history that allowed them to happen.
X-ALT-DESC;FMTTYPE=text/html:<p style="margin-right:2pt"><span style="background-color:transparent\; color:rgb(35\, 31\, 32)\; font-family:arial\; font-size:11pt">Join the author\, James Hall\, of the books &ldquo\;Condemned for Love&rdquo\; and &ldquo\;The Last Lynching in Northern Virginia&rdquo\; and discuss these true tragic stories and the disturbing and dark times in our country&rsquo\;s history that allowed them to happen.&nbsp\;</span></p>\n
LOCATION:Fredericksburg Area Campus\, SP2\, Room 134 Sealy Auditorium
UID:e.492.13413
SEQUENCE:3
DTSTAMP:20260422T115330Z
URL:https://members.fredericksburgchamber.org/events/details/author-james-hall-black-history-month-book-discussion-at-germanna-13413
END:VEVENT

END:VCALENDAR
