BEGIN:VCALENDAR
VERSION:2.0
PRODID:-//ChamberMaster//Event Calendar 2.0//EN
METHOD:PUBLISH
X-PUBLISHED-TTL:P3D
REFRESH-INTERVAL:P3D
CALSCALE:GREGORIAN
BEGIN:VEVENT
DTSTART;VALUE=DATE:20240212
DTEND;VALUE=DATE:20240213
TRANSP:TRANSPARENT
X-MICROSOFT-CDO-ALLDAYEVENT:TRUE
SUMMARY:Available 24/7: First Steps to Starting a Business Online Learning Module
DESCRIPTION:This is a self-guided online learning module that covers the First Steps to Starting a Business webinar. You will receive the link to the module within 1 business day upon receiving your payment. You will have three weeks to go through the online module and it does not need to be completed before the end of the month. The module will provide you with information about the services offered by the SBDC\, business research sources available\, an overview of various business entities\, local requirements for starting a business\, and insurance requirements. Key takeaways: - Understanding how the SBDC can help your business - Creating a mission statement - Exploring customer discovery - Providing information on the various Business Structures - Licensing - Registration - Insurances
X-ALT-DESC;FMTTYPE=text/html:This is a self-guided online learning module that covers the First Steps to Starting a Business webinar. You will receive the link to the module within 1 business day upon receiving your payment. You will have three weeks to go through the online module and it does not need to be completed before the end of the month. The module will provide you with information about the services offered by the SBDC\, business research sources available\, an overview of various business entities\, local requirements for starting a business\, and insurance requirements. Key takeaways: - Understanding how the SBDC can help your business - Creating a mission statement - Exploring customer discovery - Providing information on the various Business Structures - Licensing - Registration - Insurances
LOCATION:Virtual
UID:e.492.13868
SEQUENCE:3
DTSTAMP:20260422T023851Z
URL:https://members.fredericksburgchamber.org/events/details/available-24-7-first-steps-to-starting-a-business-online-learning-module-02-12-2024-13868
END:VEVENT

END:VCALENDAR
