BEGIN:VCALENDAR
VERSION:2.0
PRODID:-//ChamberMaster//Event Calendar 2.0//EN
METHOD:PUBLISH
X-PUBLISHED-TTL:P3D
REFRESH-INTERVAL:P3D
CALSCALE:GREGORIAN
BEGIN:VEVENT
DTSTART:20230622T213000Z
DTEND:20230622T233000Z
X-MICROSOFT-CDO-ALLDAYEVENT:FALSE
SUMMARY:Back to the 80s
DESCRIPTION:Grab your gaming buddy for a righteous night of supporting the youth in our community!\n\n\n\nArcade games\, door prize\, raffle\, 80s costume contest\, food truck\, and a visit from FredNats mascot\, Gus.\n\n\n\nThere's a $15 entry fee at the door. \n\n\n\nProceeds go toward BBBS' mission to provide one-to-one mentorships to children.\n\n\n\nLocation: 2324 Plank Road\, Fredericksburg\, VA 22401
X-ALT-DESC;FMTTYPE=text/html:Grab your gaming buddy for a righteous night of supporting the youth in our community!<br />\n<br />\nArcade games\, door prize\, raffle\, 80s costume contest\, food truck\, and a visit from FredNats mascot\, Gus.<br />\n<br />\nThere&#39\;s a $15 entry fee at the door.&nbsp\;<br />\n<br />\nProceeds go toward BBBS&#39\; mission to provide one-to-one mentorships to children.<br />\n<br />\nLocation: 2324 Plank Road\, Fredericksburg\, VA 22401
LOCATION:Reclaim Arcade\, 2324 Plank Road\, Fredericksburg\, VA 22401
UID:e.492.13592
SEQUENCE:3
DTSTAMP:20260422T070329Z
URL:https://members.fredericksburgchamber.org/events/details/back-to-the-80s-13592
END:VEVENT

END:VCALENDAR
