BEGIN:VCALENDAR
VERSION:2.0
PRODID:-//ChamberMaster//Event Calendar 2.0//EN
METHOD:PUBLISH
X-PUBLISHED-TTL:P3D
REFRESH-INTERVAL:P3D
CALSCALE:GREGORIAN
BEGIN:VEVENT
DTSTART:20231109T123000Z
DTEND:20231109T131500Z
X-MICROSOFT-CDO-ALLDAYEVENT:FALSE
SUMMARY:Bagels and Business
DESCRIPTION:Did you know that roughly 3 in 5 Americans have had an idea for starting a business? But an overwhelming majority of those people 92 percent didn't follow through with turning their idea into reality. Top Reasons? They didn't know how to get started\, They didn't have access to business tools. They weren't sure how to work with the tools/technology needed to run a business.\n\nJoin RIoT for our new monthly series   Bagels & Business   where we will discuss different topics related to starting a business\, growing your existing business\, expanding your knowledge base\, and your network. Each month we will cover a different topic including customer discovery\, MVP\, sales\, finances\, goal planning\, marketing\, and more!
X-ALT-DESC;FMTTYPE=text/html:<p>Did you know that roughly 3 in 5 Americans have had an idea for starting a business? But an overwhelming majority of those people&mdash\;92 percent&mdash\;didn&rsquo\;t follow through with turning their idea into reality. Top Reasons? They didn&rsquo\;t know how to get started\, They didn&rsquo\;t have access to business tools. They weren&rsquo\;t sure how to work with the tools/technology needed to run a business.</p>\n\n<p>Join RIoT for our new monthly series &ndash\; Bagels &amp\; Business &ndash\; where we will discuss different topics related to starting a business\, growing your existing business\, expanding your knowledge base\, and your network. Each month we will cover a different topic including customer discovery\, MVP\, sales\, finances\, goal planning\, marketing\, and more!</p>\n
LOCATION:Virginia Smart Community Testbed 2143 Richmond HWY Stafford\, VA 22554 United States
UID:e.492.13515
SEQUENCE:3
DTSTAMP:20260421T220536Z
URL:https://members.fredericksburgchamber.org/events/details/bagels-and-business-11-09-2023-13515
END:VEVENT

END:VCALENDAR
