BEGIN:VCALENDAR
VERSION:2.0
PRODID:-//ChamberMaster//Event Calendar 2.0//EN
METHOD:PUBLISH
X-PUBLISHED-TTL:P3D
REFRESH-INTERVAL:P3D
CALSCALE:GREGORIAN
BEGIN:VEVENT
DTSTART:20230216T123000Z
DTEND:20230216T140000Z
X-MICROSOFT-CDO-ALLDAYEVENT:FALSE
SUMMARY:Bagels and Business–Come Chat about Questions Around Starting a New Business
DESCRIPTION:Did you know that roughly 3 in 5 Americans have had an idea for starting a business? But an overwhelming majority of those people 92 percent didn't follow through with turning their idea into reality.\n\nTop Reasons? They didn't know how to get started\, They didn't have access to business tools\, They weren't sure how to work with the tools/technology needed to run a business.\n\nStop in\, grab a bagel and coffee\, and chat with Jen Morgan\, RIoT Virginia Program Lead\, on questions you may have in starting a business\, what tools are out there\, how you can find these tools\, programs\, resources\, and more!\n\nThis is meant to be an open\, drop in style event for those who are interested in starting a business\, have an idea\, or want to do something different.\n\nUnable to attend in person? Sign up for a 1:1 with Jen   https://calendly.com/jennifer-riot/1on1-call\n\nRIoT hosts a FREE Business Foundations Program that will help new and idea stage entrepreneurs dive deeper into Core Business Truths & Best Practices\, Validation\, and Operations 101.The next program starts 3/7. Register by 2/24! Learn more - https://riot.org/foundations/
X-ALT-DESC;FMTTYPE=text/html:<p>Did you know that roughly 3 in 5 Americans have had an idea for starting a business? But an overwhelming majority of those people&mdash\;92 percent&mdash\;didn&#39\;t follow through with turning their idea into reality.</p>\n\n<p>Top Reasons? They didn&#39\;t know how to get started\, They didn&#39\;t have access to business tools\, They weren&#39\;t sure how to work with the tools/technology needed to run a business.</p>\n\n<p>Stop in\, grab a bagel and coffee\, and chat with Jen Morgan\, RIoT Virginia Program Lead\, on questions you may have in starting a business\, what tools are out there\, how you can find these tools\, programs\, resources\, and more!</p>\n\n<p>This is meant to be an open\, drop in style event for those who are interested in starting a business\, have an idea\, or want to do something different.</p>\n\n<p>Unable to attend in person? Sign up for a 1:1 with Jen &gt\;&nbsp\;<a class="text-viridian" href="https://calendly.com/jennifer-riot/1on1-call" rel="nofollow ugc" style="box-sizing: border-box\; border: 0px solid currentcolor\; --tw-translate-x:0\; --tw-translate-y:0\; --tw-rotate:0\; --tw-skew-x:0\; --tw-skew-y:0\; --tw-scale-x:1\; --tw-scale-y:1\; --tw-transform:translateX(var(--tw-translate-x)) translateY(var(--tw-translate-y)) rotate(var(--tw-rotate)) skewX(var(--tw-skew-x)) skewY(var(--tw-skew-y)) scaleX(var(--tw-scale-x)) scaleY(var(--tw-scale-y))\; --tw-ring-inset:var(--tw-empty\, )\; --tw-ring-offset-width:0px\; --tw-ring-offset-color:#fff\; --tw-ring-color:rgba(59\,130\,246\,0.5)\; --tw-ring-offset-shadow:0 0 #0000\; --tw-ring-shadow:0 0 #0000\; --tw-shadow:0 0 #0000\; --tw-shadow-colored:0 0 #0000\; --tw-blur:var(--tw-empty\, )\; --tw-brightness:var(--tw-empty\, )\; --tw-contrast:var(--tw-empty\, )\; --tw-grayscale:var(--tw-empty\, )\; --tw-hue-rotate:var(--tw-empty\, )\; --tw-invert:var(--tw-empty\, )\; --tw-saturate:var(--tw-empty\, )\; --tw-sepia:var(--tw-empty\, )\; --tw-drop-shadow:var(--tw-empty\, )\; --tw-filter:var(--tw-blur) var(--tw-brightness) var(--tw-contrast) var(--tw-grayscale) var(--tw-hue-rotate) var(--tw-invert) var(--tw-saturate) var(--tw-sepia) var(--tw-drop-shadow)\; --tw-backdrop-blur:var(--tw-empty\, )\; --tw-backdrop-brightness:var(--tw-empty\, )\; --tw-backdrop-contrast:var(--tw-empty\, )\; --tw-backdrop-grayscale:var(--tw-empty\, )\; --tw-backdrop-hue-rotate:var(--tw-empty\, )\; --tw-backdrop-invert:var(--tw-empty\, )\; --tw-backdrop-opacity:var(--tw-empty\, )\; --tw-backdrop-saturate:var(--tw-empty\, )\; --tw-backdrop-sepia:var(--tw-empty\, )\; --tw-backdrop-filter:var(--tw-backdrop-blur) var(--tw-backdrop-brightness) var(--tw-backdrop-contrast) var(--tw-backdrop-grayscale) var(--tw-backdrop-hue-rotate) var(--tw-backdrop-invert) var(--tw-backdrop-opacity) var(--tw-backdrop-saturate) var(--tw-backdrop-sepia)\; color: rgb(0\, 152\, 171)\; text-decoration: inherit\; --tw-text-opacity:1\;" target="_blank">https://calendly.com/jennifer-riot/1on1-call</a></p>\n\n<p>RIoT hosts a FREE Business Foundations Program that will help new and idea stage entrepreneurs dive deeper into Core Business Truths &amp\; Best Practices\, Validation\, and Operations 101.The next program starts 3/7. Register by 2/24! Learn more -&nbsp\;<a class="text-viridian" href="https://riot.org/foundations/" rel="nofollow ugc" style="box-sizing: border-box\; border: 0px solid currentcolor\; --tw-translate-x:0\; --tw-translate-y:0\; --tw-rotate:0\; --tw-skew-x:0\; --tw-skew-y:0\; --tw-scale-x:1\; --tw-scale-y:1\; --tw-transform:translateX(var(--tw-translate-x)) translateY(var(--tw-translate-y)) rotate(var(--tw-rotate)) skewX(var(--tw-skew-x)) skewY(var(--tw-skew-y)) scaleX(var(--tw-scale-x)) scaleY(var(--tw-scale-y))\; --tw-ring-inset:var(--tw-empty\, )\; --tw-ring-offset-width:0px\; --tw-ring-offset-color:#fff\; --tw-ring-color:rgba(59\,130\,246\,0.5)\; --tw-ring-offset-shadow:0 0 #0000\; --tw-ring-shadow:0 0 #0000\; --tw-shadow:0 0 #0000\; --tw-shadow-colored:0 0 #0000\; --tw-blur:var(--tw-empty\, )\; --tw-brightness:var(--tw-empty\, )\; --tw-contrast:var(--tw-empty\, )\; --tw-grayscale:var(--tw-empty\, )\; --tw-hue-rotate:var(--tw-empty\, )\; --tw-invert:var(--tw-empty\, )\; --tw-saturate:var(--tw-empty\, )\; --tw-sepia:var(--tw-empty\, )\; --tw-drop-shadow:var(--tw-empty\, )\; --tw-filter:var(--tw-blur) var(--tw-brightness) var(--tw-contrast) var(--tw-grayscale) var(--tw-hue-rotate) var(--tw-invert) var(--tw-saturate) var(--tw-sepia) var(--tw-drop-shadow)\; --tw-backdrop-blur:var(--tw-empty\, )\; --tw-backdrop-brightness:var(--tw-empty\, )\; --tw-backdrop-contrast:var(--tw-empty\, )\; --tw-backdrop-grayscale:var(--tw-empty\, )\; --tw-backdrop-hue-rotate:var(--tw-empty\, )\; --tw-backdrop-invert:var(--tw-empty\, )\; --tw-backdrop-opacity:var(--tw-empty\, )\; --tw-backdrop-saturate:var(--tw-empty\, )\; --tw-backdrop-sepia:var(--tw-empty\, )\; --tw-backdrop-filter:var(--tw-backdrop-blur) var(--tw-backdrop-brightness) var(--tw-backdrop-contrast) var(--tw-backdrop-grayscale) var(--tw-backdrop-hue-rotate) var(--tw-backdrop-invert) var(--tw-backdrop-opacity) var(--tw-backdrop-saturate) var(--tw-backdrop-sepia)\; color: rgb(0\, 152\, 171)\; text-decoration: inherit\; --tw-text-opacity:1\;" target="_blank">https://riot.org/foundations/</a></p>\n
LOCATION:Virginia Smart Community Testbed 2143 Richmond Hwy Stafford\, VA
UID:e.492.13380
SEQUENCE:3
DTSTAMP:20260422T115750Z
URL:https://members.fredericksburgchamber.org/events/details/bagels-and-business-come-chat-about-questions-around-starting-a-new-business-13380
END:VEVENT

END:VCALENDAR
