BEGIN:VCALENDAR
VERSION:2.0
PRODID:-//ChamberMaster//Event Calendar 2.0//EN
METHOD:PUBLISH
X-PUBLISHED-TTL:P3D
REFRESH-INTERVAL:P3D
CALSCALE:GREGORIAN
BEGIN:VEVENT
DTSTART:20260130T003000Z
DTEND:20260130T013000Z
X-MICROSOFT-CDO-ALLDAYEVENT:FALSE
SUMMARY:Barbara Jordan: A Great Lives Jack and Marilyn Farrington Lecture with Mary Ellen Curtin
DESCRIPTION:Mary Ellen Curtin speaks at a Great Lives lecture about She Changed the Nation: Barbara Jordan's Life and Legacy in Black Politics\, sponsored by Jack and Marilyn Farrington. The event begins in George Washington Hall's Dodd Auditorium at 7:30 PM\, and doors open at 6:30 PM.
X-ALT-DESC;FMTTYPE=text/html:Mary Ellen Curtin speaks at a Great Lives lecture about She Changed the Nation: Barbara Jordan&rsquo\;s Life and Legacy in Black Politics\, sponsored by Jack and Marilyn Farrington. The event begins in George Washington Hall&rsquo\;s Dodd Auditorium at 7:30 PM\, and doors open at 6:30 PM.
LOCATION:1301 College Ave\, Fredericksburg\, VA 22401
UID:e.492.15142
SEQUENCE:3
DTSTAMP:20260421T145332Z
URL:https://members.fredericksburgchamber.org/events/details/barbara-jordan-a-great-lives-jack-and-marilyn-farrington-lecture-with-mary-ellen-curtin-15142
END:VEVENT

END:VCALENDAR
