BEGIN:VCALENDAR
VERSION:2.0
PRODID:-//ChamberMaster//Event Calendar 2.0//EN
METHOD:PUBLISH
X-PUBLISHED-TTL:P3D
REFRESH-INTERVAL:P3D
CALSCALE:GREGORIAN
BEGIN:VEVENT
DTSTART:20250917T120000Z
DTEND:20250918T033000Z
X-MICROSOFT-CDO-ALLDAYEVENT:FALSE
SUMMARY:Basic Life Support (BLS)
DESCRIPTION:The AHA's BLS course trains participants to promptly recognize several life-threatening emergencies\, give high-quality chest compressions\, deliver appropriate ventilations and provide early use of an AED.\n\n\n\nThe AHA's BLS Course is designed for healthcare professionals and other personnel who need to know how to perform CPR and other basic cardiovascular life support skills in a wide variety of in-facility and prehospital settings.\n\n\n\nWhat does this course teach?\n\n  High-quality CPR for adults\, children\, and infants\n\n  The AHA Chain of Survival\, specifically the BLS components\n\n  Important early use of an AED\n\n  Effective ventilation using a barrier device\n\n  Importance of teams in multirescuer resuscitation and performance as an effective team member during multirescuer CPR\n\n  Relief of foreign-body airway obstruction (choking) for adults and infants
X-ALT-DESC;FMTTYPE=text/html:<div>\n<div style="background:transparent\; border:0px\; padding:0px">\n<div style="background:transparent\; border:0px\; padding:0px">\n<p>The AHA&rsquo\;s BLS course trains participants to promptly recognize several life-threatening emergencies\, give high-quality chest compressions\, deliver appropriate ventilations and provide early use of an AED.<br />\n<br />\nThe AHA&rsquo\;s BLS Course is designed for healthcare professionals and other personnel who need to know how to perform CPR and other basic cardiovascular life support skills in a wide variety of in-facility and prehospital settings.<br />\n<br />\nWhat does this course teach?<br />\n&bull\; High-quality CPR for adults\, children\, and infants<br />\n&bull\; The AHA Chain of Survival\, specifically the BLS components<br />\n&bull\; Important early use of an AED<br />\n&bull\; Effective ventilation using a barrier device<br />\n&bull\; Importance of teams in multirescuer resuscitation and performance as an effective team member during multirescuer CPR<br />\n&bull\; Relief of foreign-body airway obstruction (choking) for adults and infants</p>\n</div>\n</div>\n</div>\n
LOCATION:Rocky Mountain Resuscitation\, LLC 420 Hudgins Rd\, Suite 217 Fredericksburg\, Va 22408
UID:e.492.14995
SEQUENCE:3
DTSTAMP:20260421T210749Z
URL:https://members.fredericksburgchamber.org/events/details/basic-life-support-bls-14995
END:VEVENT

END:VCALENDAR
