BEGIN:VCALENDAR
VERSION:2.0
PRODID:-//ChamberMaster//Event Calendar 2.0//EN
METHOD:PUBLISH
X-PUBLISHED-TTL:P3D
REFRESH-INTERVAL:P3D
CALSCALE:GREGORIAN
BEGIN:VEVENT
DTSTART:20230510T200000Z
DTEND:20230510T213000Z
X-MICROSOFT-CDO-ALLDAYEVENT:FALSE
SUMMARY:Beer Raw Truth of the Fred Nats
DESCRIPTION:The Stafford Beer & Business Series is a quarterly outing provided by the Stafford County Economic Development Authority. These events are designed to connect local professionals across all markets. In addition to networking\, each Beer & Business outing will have a brief insightful\, "Raw Truth" of an industry specific discussion\, led by a local expert. This raw truth discussion will be led by Nick Hall\, General Manager of the Fredericksburg Nationals at Highmark Brewery on May 10\, 2023 from 4-5:30PM. Beer & Business is admissions free\, and includes a beverage. Registration is REQUIRED REGISTER HERE   https://www.gostaffordva.com/event/beer-business-the-raw-truth-of-baseball-with-the-fredericksburg-nationals/
X-ALT-DESC;FMTTYPE=text/html:The Stafford Beer &amp\; Business Series is a quarterly outing provided by the Stafford County Economic Development Authority. These events are designed to connect local professionals across all markets. In addition to networking\, each Beer &amp\; Business outing will have a brief insightful\, &ldquo\;Raw Truth&rdquo\; of an industry specific discussion\, led by a local expert. This raw truth discussion will be led by Nick Hall\, General Manager of the Fredericksburg Nationals at Highmark Brewery on May 10\, 2023 from 4-5:30PM. Beer &amp\; Business is admissions free\, and includes a beverage. Registration is REQUIRED REGISTER HERE&gt\;&gt\; https://www.gostaffordva.com/event/beer-business-the-raw-truth-of-baseball-with-the-fredericksburg-nationals/
LOCATION:Highmark Brewery 390 Kings Hwy Fredericksburg\, VA 22405
UID:e.492.13455
SEQUENCE:3
DTSTAMP:20260422T071450Z
URL:https://members.fredericksburgchamber.org/events/details/beer-business-raw-truth-of-the-fred-nats-13455
END:VEVENT

END:VCALENDAR
