BEGIN:VCALENDAR
VERSION:2.0
PRODID:-//ChamberMaster//Event Calendar 2.0//EN
METHOD:PUBLISH
X-PUBLISHED-TTL:P3D
REFRESH-INTERVAL:P3D
CALSCALE:GREGORIAN
BEGIN:VEVENT
DTSTART:20221109T210000Z
DTEND:20221109T223000Z
X-MICROSOFT-CDO-ALLDAYEVENT:FALSE
SUMMARY:Beer & Business: Raw Truth of Workforce Retention& Attraction with Matern Staffing
DESCRIPTION:The Stafford Beer & Business Series is a quarterly outing provided by the Stafford County Economic Development Authority. These events are designed to connect local professionals across all markets. In addition to networking\, each Beer & Business outing will have a brief insightful\, "Raw Truth" of an industry specific discussion\, led by a local expert. This Beer & Business features the Raw Truth of Workforce Attraction and Retention Marketing\, presented Matern Staffing Beer & Business is admissions free\, and includes a beverage. Registration is REQUIRED.
X-ALT-DESC;FMTTYPE=text/html:The Stafford Beer &amp\; Business Series is a quarterly outing provided by the Stafford County Economic Development Authority. These events are designed to connect local professionals across all markets. In addition to networking\, each Beer &amp\; Business outing will have a brief insightful\, &ldquo\;Raw Truth&rdquo\; of an industry specific discussion\, led by a local expert. This Beer &amp\; Business features the Raw Truth of Workforce Attraction and Retention Marketing\, presented Matern Staffing Beer &amp\; Business is admissions free\, and includes a beverage. Registration is REQUIRED.
LOCATION:6 Bears & A Goat Brewing | 1140 International Pkwy\, Fredericksburg\, VA 22406
UID:e.492.13135
SEQUENCE:3
DTSTAMP:20260422T180457Z
URL:https://members.fredericksburgchamber.org/events/details/beer-business-raw-truth-of-workforce-retention-attraction-with-matern-staffing-13135
END:VEVENT

END:VCALENDAR
