BEGIN:VCALENDAR
VERSION:2.0
PRODID:-//ChamberMaster//Event Calendar 2.0//EN
METHOD:PUBLISH
X-PUBLISHED-TTL:P3D
REFRESH-INTERVAL:P3D
CALSCALE:GREGORIAN
BEGIN:VEVENT
DTSTART:20240221T230000Z
DTEND:20240223T013000Z
X-MICROSOFT-CDO-ALLDAYEVENT:FALSE
SUMMARY:Beer Exploration Course
DESCRIPTION:Join UMW Continuing & Professional Studies and 6 Bears & A Goat Brewing Company for a two-evening course on beer exploration on February 21st and 22nd. Learn about the history\, origins\, & styles of beer\, what's new in beer (including trends and limits)\, and the science and the art of beer making! The second evening will be on site at the 6 Bears & A Goat Brewery for a behind-the-scenes brewery tour and beer pairing experience.
X-ALT-DESC;FMTTYPE=text/html:Join UMW Continuing &amp\; Professional Studies and 6 Bears &amp\; A Goat Brewing Company for a two-evening course on beer exploration on February 21st and 22nd. Learn about the history\, origins\, &amp\; styles of beer\, what&rsquo\;s new in beer (including trends and limits)\, and the science and the art of beer making! The second evening will be on site at the 6 Bears &amp\; A Goat Brewery for a behind-the-scenes brewery tour and beer pairing experience.
LOCATION:UMW Stafford Campus / 6 Bears & a Goat Brewing Company
UID:e.492.13864
SEQUENCE:3
DTSTAMP:20260422T023641Z
URL:https://members.fredericksburgchamber.org/events/details/beer-exploration-course-02-21-2024-13864
END:VEVENT

END:VCALENDAR
