BEGIN:VCALENDAR
VERSION:2.0
PRODID:-//ChamberMaster//Event Calendar 2.0//EN
METHOD:PUBLISH
X-PUBLISHED-TTL:P3D
REFRESH-INTERVAL:P3D
CALSCALE:GREGORIAN
BEGIN:VEVENT
DTSTART:20250729T140000Z
DTEND:20250801T000000Z
X-MICROSOFT-CDO-ALLDAYEVENT:FALSE
SUMMARY:BeMobile 12th Annual Backpack Giveaway
DESCRIPTION:BeMobile's 12th Annual Backpack Giveaway. Register for a $500 shopping spree and receive a backpack.
X-ALT-DESC;FMTTYPE=text/html:BeMobile&#39\;s 12th Annual Backpack Giveaway. Register for a $500 shopping spree and receive a backpack.
LOCATION:15 S Gateway Dr Fredericksburg\, VA 22406
UID:e.492.14940
SEQUENCE:3
DTSTAMP:20260422T003609Z
URL:https://members.fredericksburgchamber.org/events/details/bemobile-12th-annual-backpack-giveaway-14940
END:VEVENT

END:VCALENDAR
