BEGIN:VCALENDAR
VERSION:2.0
PRODID:-//ChamberMaster//Event Calendar 2.0//EN
METHOD:PUBLISH
X-PUBLISHED-TTL:P3D
REFRESH-INTERVAL:P3D
CALSCALE:GREGORIAN
BEGIN:VEVENT
DTSTART:20221108T140000Z
DTEND:20221108T170000Z
X-MICROSOFT-CDO-ALLDAYEVENT:FALSE
SUMMARY:Blue Print Business Plan Workshop
DESCRIPTION:This three-hour workshop covers the development of the business plan and financial forecasting of the business plan. Please be prepared to begin working on your business plan during the class. We will start by opening a Microsoft Word or Google Doc for you to add information to as we proceed through the workshop. By the end of the workshop you will have completed a rough draft of a portion of the business plan and have clear direction which areas you need to conduct research and add additional information to in order to complete. Takeaways: Research tools Business plan components Business concept Financial plan Supporting documents Must preregister for the event.
X-ALT-DESC;FMTTYPE=text/html:This three-hour workshop covers the development of the business plan and financial forecasting of the business plan. Please be prepared to begin working on your business plan during the class. We will start by opening a Microsoft Word or Google Doc for you to add information to as we proceed through the workshop. By the end of the workshop you will have completed a rough draft of a portion of the business plan and have clear direction which areas you need to conduct research and add additional information to in order to complete. Takeaways: Research tools Business plan components Business concept Financial plan Supporting documents Must preregister for the event.
LOCATION:Online
UID:e.492.13168
SEQUENCE:3
DTSTAMP:20260422T163546Z
URL:https://members.fredericksburgchamber.org/events/details/blue-print-business-plan-workshop-13168
END:VEVENT

END:VCALENDAR
