BEGIN:VCALENDAR
VERSION:2.0
PRODID:-//ChamberMaster//Event Calendar 2.0//EN
METHOD:PUBLISH
X-PUBLISHED-TTL:P3D
REFRESH-INTERVAL:P3D
CALSCALE:GREGORIAN
BEGIN:VEVENT
DTSTART:20260714T130000Z
DTEND:20260714T170000Z
X-MICROSOFT-CDO-ALLDAYEVENT:FALSE
SUMMARY:Blueprint Business Plan Workshop
DESCRIPTION:Blueprint Business Plan Workshop\n\n\n\n\n\nJul\n\n14\n\n2026\n\n\n\n\nTue\, Jul 14 9:00 AM to 1:00 PM\n\nAdd to Google Calendar | Outlook Calendar | Apple Calendar\n\n\n\n\nOnline\nFacilitated by the University of Mary Washington SBDC\n\n\nTopic: Business Basics\n\n\nThis four-hour workshop covers the development of the business plan and its financial forecasting. Please be prepared to begin working on your business plan during the class. We will start by opening a Microsoft Word or Google Doc for you to add information to as we proceed through the workshop. By the end of the workshop\, you will have completed a rough draft of a portion of the business plan and have a clear direction on which areas you need to conduct research and add additional information to in order to complete.\n\nTakeaways:\n\n\n	Research tools\n	Business plan components\n	Business concept\n	Financial plan\n	Supporting documents\n\n\n\n \n\nSpeaker(s):\n\nBianca Guzman\, UMW SBDC Consultant\n\n\n\n    Bianca Guzman is one of the University of Mary Washington SBDC Consultants. Bianca works with clients to evaluate business opportunities\, forecast cash flows\, develop marketing strategies\, prepare loan proposals\, and write business plans. She also assists clients in registering to do business with state and federal agencies and obtaining applicable minority business certifications. She teaches Blue Print Business Plan seminars. Bianca has attended both Clark Atlanta University and University of Phoenix and completed programs in Computer Science/Desktop Publishing\, Criminal Justice\, Business Management\, and Human Resources Management. Bianca has also been an entrepreneur for over 15 years.\n\nIf you need further assistance or have a question\, please contact us at (540) 654-1383.\n\nFee: $ 35.00\n\nClick continue to pay online\n\nRegister Online
X-ALT-DESC;FMTTYPE=text/html:<h1>Blueprint Business Plan Workshop</h1>\n\n<div>\n<div>\n<div>\n<div style="text-align:center">\n<div>Jul</div>\n\n<div>14</div>\n\n<div>2026</div>\n</div>\n</div>\n\n<div>\n<div>Tue\, Jul 14 9:00 AM to 1:00 PM</div>\n\n<div>Add to&nbsp\;<a href="https://clients.virginiasbdc.org/eventcal?type=google&amp\;e=140460026">Google Calendar</a>&nbsp\;|&nbsp\;<a href="https://clients.virginiasbdc.org/eventcal?e=140460026">Outlook Calendar</a>&nbsp\;|&nbsp\;<a href="https://clients.virginiasbdc.org/eventcal?e=140460026">Apple Calendar</a></div>\n</div>\n</div>\n</div>\n\n<div>Online\n<div>Facilitated by the&nbsp\;<a href="https://clients.virginiasbdc.org/center.aspx?center=46140">University of Mary Washington SBDC</a></div>\n</div>\n\n<div>Topic: Business Basics</div>\n\n<div>\n<p>This four-hour workshop covers the development of the business plan and its financial forecasting. Please be prepared to begin working on your business plan during the class. We will start by opening a Microsoft Word or Google Doc for you to add information to as we proceed through the workshop. By the end of the workshop\, you will have completed a rough draft of a portion of the business plan and have a clear direction on which areas you need to conduct research and add additional information to in order to complete.</p>\n\n<p>Takeaways:</p>\n\n<ul>\n	<li>Research tools</li>\n	<li>Business plan components</li>\n	<li>Business concept</li>\n	<li>Financial plan</li>\n	<li>Supporting documents</li>\n</ul>\n</div>\n\n<p>&nbsp\;</p>\n\n<p>Speaker(s):<br />\nBianca Guzman\, UMW SBDC Consultant<br />\n<br />\n&nbsp\;&nbsp\;&nbsp\;&nbsp\;Bianca Guzman is one of the University of Mary Washington SBDC Consultants. Bianca works with clients to evaluate business opportunities\, forecast cash flows\, develop marketing strategies\, prepare loan proposals\, and write business plans. She also assists clients in registering to do business with state and federal agencies and obtaining applicable minority business certifications. She teaches Blue Print Business Plan seminars. Bianca has attended both Clark Atlanta University and University of Phoenix and completed programs in Computer Science/Desktop Publishing\, Criminal Justice\, Business Management\, and Human Resources Management. Bianca has also been an entrepreneur for over 15 years.</p>\n\n<p>If you need further assistance or have a question\, please contact us at (540) 654-1383.</p>\n\n<p>Fee: $ 35.00</p>\n\n<p>Click continue to pay online</p>\n\n<div><a class="cdeventreg" href="https://clients.virginiasbdc.org/reg.aspx?mode=event&amp\;event=140460026" rel="nofollow" style="padding: 0.8rem 2rem\; font-size: 1.2rem\; display: inline-block\; margin-bottom: 0.5em\; background-color: rgb(0\, 64\, 117) !important\; color: white !important\;">Register Online</a></div>\n
LOCATION:Online
UID:e.492.15374
SEQUENCE:3
DTSTAMP:20260421T174837Z
URL:https://members.fredericksburgchamber.org/events/details/blueprint-business-plan-workshop-15374
END:VEVENT

END:VCALENDAR
