BEGIN:VCALENDAR
VERSION:2.0
PRODID:-//ChamberMaster//Event Calendar 2.0//EN
METHOD:PUBLISH
X-PUBLISHED-TTL:P3D
REFRESH-INTERVAL:P3D
CALSCALE:GREGORIAN
BEGIN:VEVENT
DTSTART:20220924T200000Z
DTEND:20220924T220000Z
X-MICROSOFT-CDO-ALLDAYEVENT:FALSE
SUMMARY:Bomba In The Square
DESCRIPTION:The Fredericksburg Area Museum (FAM)\, in partnership with Semilla Cultural celebrates the start of Hispanic Heritage Month with Bomba In The Square. This program is an introduction to the traditional Afro-Puerto Rican dance and music style\, bomba. Dating back to the seventeenth century\, bomba is a percussion driven artform consisting of drums\, maracas\, and wooden sticks called cu s\, for banging the sides of the drums. Dancers improvise movement that the lead drummer follows and interprets simultaneously as the drum beats. Bomba In the Square will take place at the FAM in historic Market Square (907 Princess Anne Street) on Saturday\, September 24th. This FREE event starts with a bomba class with live music from 4pm   4:45pm and concludes with a 4:45pm-6pm bomba jam session where drum music will be played\, and participants are encouraged to dance and sing! Bomba In the Square is a family-friendly event\, and all are welcomed! Please wear comfortable shoes and be ready to move. Instruments are provided but feel free to bring drums\, cu s (wooden sticks)\, and/or maracas. In the case of inclement weather\, the program will be rescheduled to Sunday\, September 25th.
X-ALT-DESC;FMTTYPE=text/html:The Fredericksburg Area Museum (FAM)\, in partnership with Semilla Cultural celebrates the start of Hispanic Heritage Month with Bomba In The Square. This program is an introduction to the traditional Afro-Puerto Rican dance and music style\, bomba. Dating back to the seventeenth century\, bomba is a percussion driven artform consisting of drums\, maracas\, and wooden sticks called cu&aacute\;s\, for banging the sides of the drums. Dancers improvise movement that the lead drummer follows and interprets simultaneously as the drum beats. Bomba In the Square will take place at the FAM in historic Market Square (907 Princess Anne Street) on Saturday\, September 24th. This FREE event starts with a bomba class with live music from 4pm &ndash\; 4:45pm and concludes with a 4:45pm-6pm bomba jam session where drum music will be played\, and participants are encouraged to dance and sing! Bomba In the Square is a family-friendly event\, and all are welcomed! Please wear comfortable shoes and be ready to move. Instruments are provided but feel free to bring drums\, cu&aacute\;s (wooden sticks)\, and/or maracas. In the case of inclement weather\, the program will be rescheduled to Sunday\, September 25th.
LOCATION:Historic Market Square (907 Princess Anne Street)
UID:e.492.13099
SEQUENCE:3
DTSTAMP:20260422T194102Z
URL:https://members.fredericksburgchamber.org/events/details/bomba-in-the-square-09-24-2022-13099
END:VEVENT

END:VCALENDAR
