BEGIN:VCALENDAR
VERSION:2.0
PRODID:-//ChamberMaster//Event Calendar 2.0//EN
METHOD:PUBLISH
X-PUBLISHED-TTL:P3D
REFRESH-INTERVAL:P3D
CALSCALE:GREGORIAN
BEGIN:VEVENT
DTSTART:20230621T200000Z
DTEND:20230621T220000Z
X-MICROSOFT-CDO-ALLDAYEVENT:FALSE
SUMMARY:Boujee Bag Bingo Fundraiser for the Alzheimer's Association at Charter Fredericksburg
DESCRIPTION:Please join us at Charter Senior Living of Fredericksburg this Wednesday\, June 21st at 4pm for our Bag Bingo Fundraiser and your chance to win a designer bag! Proceeds from the event benefit the Longest Day of the Year Fundraiser for the Alzheimer's Association! Hope to see you there!
X-ALT-DESC;FMTTYPE=text/html:<h1><span style="font-size:14px"><span style="font-family:comic sans ms">Please join us at Charter Senior Living of Fredericksburg this Wednesday\, June 21st at 4pm for our Bag Bingo Fundraiser and your chance to win a designer bag! Proceeds from the event benefit the Longest Day of the Year Fundraiser for the Alzheimer&#39\;s Association! Hope to see you there!</span></span></h1>\n
LOCATION:Charter Senior Living of Fredericksburg 20 Heartfields Ln\, Fredericksburg\, VA 22405
UID:e.492.13607
SEQUENCE:3
DTSTAMP:20260422T071501Z
URL:https://members.fredericksburgchamber.org/events/details/boujee-bag-bingo-fundraiser-for-the-alzheimer-s-association-at-charter-fredericksburg-13607
END:VEVENT

END:VCALENDAR
