BEGIN:VCALENDAR
VERSION:2.0
PRODID:-//ChamberMaster//Event Calendar 2.0//EN
METHOD:PUBLISH
X-PUBLISHED-TTL:P3D
REFRESH-INTERVAL:P3D
CALSCALE:GREGORIAN
BEGIN:VEVENT
DTSTART:20230415T130000Z
DTEND:20230415T150000Z
X-MICROSOFT-CDO-ALLDAYEVENT:FALSE
SUMMARY:Bourbon & Bending
DESCRIPTION:Come for the yoga and stay for the bourbon! Brenda Madero from BYoga and Shareia Oliver from Eleven26 invite you to this fun event where you'll get to experience a wonderful beginner friendly yoga flow followed by an optional distillery tour and bourbon tasting. No yoga or bourbon experience required! Doors open at 9:00\, class starts promptly at 9:15 and ends at 10:00. The distillery tour and tasting begins at 10:00 am and is included with your ticket. Bring your own mat. See you soon!
X-ALT-DESC;FMTTYPE=text/html:Come for the yoga and stay for the bourbon! Brenda Madero from BYoga and Shareia Oliver from Eleven26 invite you to this fun event where you&rsquo\;ll get to experience a wonderful beginner friendly yoga flow followed by an optional distillery tour and bourbon tasting. No yoga or bourbon experience required! Doors open at 9:00\, class starts promptly at 9:15 and ends at 10:00. The distillery tour and tasting begins at 10:00 am and is included with your ticket. Bring your own mat. See you soon!
LOCATION:A. Smith Bowman Distillery
UID:e.492.13469
SEQUENCE:3
DTSTAMP:20260422T084706Z
URL:https://members.fredericksburgchamber.org/events/details/bourbon-bending-04-15-2023-13469
END:VEVENT

END:VCALENDAR
