BEGIN:VCALENDAR
VERSION:2.0
PRODID:-//ChamberMaster//Event Calendar 2.0//EN
METHOD:PUBLISH
X-PUBLISHED-TTL:P3D
REFRESH-INTERVAL:P3D
CALSCALE:GREGORIAN
BEGIN:VEVENT
DTSTART:20221204T160000Z
DTEND:20221204T180000Z
X-MICROSOFT-CDO-ALLDAYEVENT:FALSE
SUMMARY:Bourbon & Bending
DESCRIPTION:As a way to support local businesses B-Yoga has hosted yoga events at various locations like clothing stores\, jewelry stores and breweries. This time B-Yoga is hosting this fun event at historic A. Smith Bowman Distillery! Whether you're into yoga\, into bourbon or both\, you won't want to miss this unique event!
X-ALT-DESC;FMTTYPE=text/html:As a way to support local businesses B-Yoga has hosted yoga events at various locations like clothing stores\, jewelry stores and breweries. This time B-Yoga is hosting this fun event at historic A. Smith Bowman Distillery! Whether you&rsquo\;re into yoga\, into bourbon or both\, you won&rsquo\;t want to miss this unique event!
LOCATION:A.Smith Bowman Distillery 1 Bowman Drive Fredericksburg\, VA 22408
UID:e.492.13190
SEQUENCE:3
DTSTAMP:20260422T150044Z
URL:https://members.fredericksburgchamber.org/events/details/bourbon-bending-13190
END:VEVENT

END:VCALENDAR
