BEGIN:VCALENDAR
VERSION:2.0
PRODID:-//ChamberMaster//Event Calendar 2.0//EN
METHOD:PUBLISH
X-PUBLISHED-TTL:P3D
REFRESH-INTERVAL:P3D
CALSCALE:GREGORIAN
BEGIN:VEVENT
DTSTART:20240302T170000Z
DTEND:20240302T190000Z
X-MICROSOFT-CDO-ALLDAYEVENT:FALSE
SUMMARY:Bowl for Kids' Sake
DESCRIPTION:Spare a day for fun while supporting Big Brothers Big Sisters' mission to provide mentors to children in the community!\n\n\n\nJoin us for Bowl for Kids' Sake at Penny Lanes. Put together a bowling team and invite family and friends to donate toward your fundraising pages OR support us by donating to a bowler or team!\n\n\n\nBowlers who meet the fundraising minimums will enjoy 2 hours of bowling\, shoe rental\, BBBS T-Shirt\, pizza\, and a chance to win our exclusive raffle prizes!
X-ALT-DESC;FMTTYPE=text/html:<span style="font-size:12px"><span style="font-family:arial\,helvetica\,sans-serif">Spare a day for&nbsp\;fun while supporting Big Brothers Big Sisters&#39\; mission to provide mentors to children in the community!<br />\n<br />\nJoin us for Bowl for Kids&#39\; Sake at Penny Lanes. Put together a bowling team and invite family and friends to donate toward your&nbsp\;fundraising pages OR support us by donating to a bowler or team!<br />\n<br />\nBowlers who meet the fundraising minimums will enjoy 2 hours of bowling\, shoe rental\, BBBS T-Shirt\, pizza\, and a chance to win our exclusive raffle prizes!</span></span>
LOCATION:Penny Lanes at Spotsylvania Towne Centre
UID:e.492.13833
SEQUENCE:3
DTSTAMP:20260422T040723Z
URL:https://members.fredericksburgchamber.org/events/details/bowl-for-kids-sake-03-02-2024-13833
END:VEVENT

END:VCALENDAR
