BEGIN:VCALENDAR
VERSION:2.0
PRODID:-//ChamberMaster//Event Calendar 2.0//EN
METHOD:PUBLISH
X-PUBLISHED-TTL:P3D
REFRESH-INTERVAL:P3D
CALSCALE:GREGORIAN
BEGIN:VEVENT
DTSTART:20221221T200000Z
DTEND:20221221T230000Z
X-MICROSOFT-CDO-ALLDAYEVENT:FALSE
SUMMARY:Brain Injury Services Open House
DESCRIPTION:Brain Injury Services is Hosting our first Public Open House Since COVID. Come join us from 3-6pm on Dec. 21st at our office for highlights of our community & services\, creative food decorations\, drinks\, and a crafting area for families & kids! Please RSVP by Wednesday morning\, Dec 21st.
X-ALT-DESC;FMTTYPE=text/html:Brain Injury Services is Hosting our first Public Open House Since COVID. Come join us from 3-6pm on Dec. 21st at our office for highlights of our community &amp\; services\, creative food decorations\, drinks\, and a crafting area for families &amp\; kids! Please RSVP by Wednesday morning\, Dec 21st.&nbsp\;
LOCATION:927 Maple Grove Drive\, Suite 107\, Fredericksburg\, VA 22407
UID:e.492.13303
SEQUENCE:3
DTSTAMP:20260422T150337Z
URL:https://members.fredericksburgchamber.org/events/details/brain-injury-services-open-house-13303
END:VEVENT

END:VCALENDAR
